BEGIN:VCALENDAR
VERSION:2.0
PRODID:-//SHS JAMES - ECPv6.15.20//NONSGML v1.0//EN
CALSCALE:GREGORIAN
METHOD:PUBLISH
X-ORIGINAL-URL:https://shsjames.sk
X-WR-CALDESC:Udalosti pre SHS JAMES
REFRESH-INTERVAL;VALUE=DURATION:PT1H
X-Robots-Tag:noindex
X-PUBLISHED-TTL:PT1H
BEGIN:VTIMEZONE
TZID:UTC
BEGIN:STANDARD
TZOFFSETFROM:+0000
TZOFFSETTO:+0000
TZNAME:UTC
DTSTART:20240101T000000
END:STANDARD
END:VTIMEZONE
BEGIN:VEVENT
DTSTART;VALUE=DATE:20251101
DTEND;VALUE=DATE:20251102
DTSTAMP:20260426T002506
CREATED:20240101T000538Z
LAST-MODIFIED:20260425T220732Z
UID:22407-1761955200-1762041599@shsjames.sk
SUMMARY:Sviatok vŝetkých svätých
DESCRIPTION:Štátny sviatok
URL:https://shsjames.sk/akcia/sviatok-vsetkych-svatych/
CATEGORIES:Sviatky na Slovensku
END:VEVENT
BEGIN:VEVENT
DTSTART;VALUE=DATE:20251101
DTEND;VALUE=DATE:20251102
DTSTAMP:20260426T002506
CREATED:20250529T172508Z
LAST-MODIFIED:20251103T072826Z
UID:151169-1761955200-1762041599@shsjames.sk
SUMMARY:EC lead Francúzsko
DESCRIPTION:
URL:https://shsjames.sk/akcia/ec-lead-francuzsko/
CATEGORIES:Športové lezenie - Európsky pohár
END:VEVENT
BEGIN:VEVENT
DTSTART;VALUE=DATE:20251102
DTEND;VALUE=DATE:20251103
DTSTAMP:20260426T002506
CREATED:20250529T172459Z
LAST-MODIFIED:20260425T212712Z
UID:151163-1762041600-1762127999@shsjames.sk
SUMMARY:EYC lead Francúzsko
DESCRIPTION:
URL:https://shsjames.sk/akcia/eyc-lead-francuzsko/
CATEGORIES:Športové lezenie - Európsky pohár mládeže
END:VEVENT
BEGIN:VEVENT
DTSTART;VALUE=DATE:20251115
DTEND;VALUE=DATE:20251116
DTSTAMP:20260426T002506
CREATED:20251013T133132Z
LAST-MODIFIED:20260425T213148Z
UID:185486-1763164800-1763251199@shsjames.sk
SUMMARY:Detská lezecká Singingrock liga Trenčín
DESCRIPTION:
URL:https://shsjames.sk/akcia/detska-lezecka-singingrock-liga-trencin-2/
CATEGORIES:Športové lezenie - SP B a C, ostatné preteky
END:VEVENT
BEGIN:VEVENT
DTSTART;VALUE=DATE:20251115
DTEND;VALUE=DATE:20251116
DTSTAMP:20260426T002506
CREATED:20251112T143225Z
LAST-MODIFIED:20260425T213148Z
UID:192175-1763164800-1763251199@shsjames.sk
SUMMARY:Spotlight Boulder Jam\, Spot Bratislava
DESCRIPTION:
URL:https://shsjames.sk/akcia/spotlight-boulder-jam-spot-bratislava/
CATEGORIES:Športové lezenie - SP B a C, ostatné preteky
END:VEVENT
BEGIN:VEVENT
DTSTART;VALUE=DATE:20251117
DTEND;VALUE=DATE:20251118
DTSTAMP:20260426T002506
CREATED:20240101T000538Z
LAST-MODIFIED:20260425T220732Z
UID:22408-1763337600-1763423999@shsjames.sk
SUMMARY:Deň boja za slobodu a demokraciu
DESCRIPTION:Pamätný deňPamätné dni skryjete v sekcii Nastavenia Kalendára Google > Sviatky na Slovensku
URL:https://shsjames.sk/akcia/den-boja-za-slobodu-a-demokraciu/
CATEGORIES:Sviatky na Slovensku
END:VEVENT
BEGIN:VEVENT
DTSTART;VALUE=DATE:20251122
DTEND;VALUE=DATE:20251123
DTSTAMP:20260426T002506
CREATED:20251111T143001Z
LAST-MODIFIED:20260425T213148Z
UID:191961-1763769600-1763855999@shsjames.sk
SUMMARY:UPJŠ Košice boulder C
DESCRIPTION:
URL:https://shsjames.sk/akcia/upjs-kosice-boulder-c/
CATEGORIES:Športové lezenie - SP B a C, ostatné preteky
END:VEVENT
BEGIN:VEVENT
DTSTART;VALUE=DATE:20251129
DTEND;VALUE=DATE:20251130
DTSTAMP:20260426T002506
CREATED:20251125T172533Z
LAST-MODIFIED:20260425T222503Z
UID:194865-1764374400-1764460799@shsjames.sk
SUMMARY:Sústredenie + vyhodnotenie SPDaM 2025: LA SKALA
DESCRIPTION:
URL:https://shsjames.sk/akcia/sustredenie-vyhodnotenie-spdam-2025-la-skala/
CATEGORIES:Športové lezenie - iné podujatia
END:VEVENT
END:VCALENDAR