BEGIN:VCALENDAR
VERSION:2.0
PRODID:-//SHS JAMES - ECPv6.15.20//NONSGML v1.0//EN
CALSCALE:GREGORIAN
METHOD:PUBLISH
X-WR-CALNAME:SHS JAMES
X-ORIGINAL-URL:https://shsjames.sk
X-WR-CALDESC:Udalosti pre SHS JAMES
REFRESH-INTERVAL;VALUE=DURATION:PT1H
X-Robots-Tag:noindex
X-PUBLISHED-TTL:PT1H
BEGIN:VTIMEZONE
TZID:UTC
BEGIN:STANDARD
TZOFFSETFROM:+0000
TZOFFSETTO:+0000
TZNAME:UTC
DTSTART:20250101T000000
END:STANDARD
END:VTIMEZONE
BEGIN:VEVENT
DTSTART;VALUE=DATE:20260307
DTEND;VALUE=DATE:20260308
DTSTAMP:20260425T185537
CREATED:20260303T152902Z
LAST-MODIFIED:20260425T163006Z
UID:214863-1772841600-1772927999@shsjames.sk
SUMMARY:Continental Cup\, drytool\, Oulu (FIN)
DESCRIPTION:
URL:https://shsjames.sk/akcia/continental-cup-drytool-oulu-fin/
CATEGORIES:Ľadové lezenie a drytooling
END:VEVENT
BEGIN:VEVENT
DTSTART;VALUE=DATE:20260307
DTEND;VALUE=DATE:20260308
DTSTAMP:20260425T185537
CREATED:20260303T152903Z
LAST-MODIFIED:20260425T163006Z
UID:214864-1772841600-1772927999@shsjames.sk
SUMMARY:Coninental Youth Cup\, drytool\, Oulu (FIN)
DESCRIPTION:
URL:https://shsjames.sk/akcia/coninental-youth-cup-drytool-oulu-fin/
CATEGORIES:Ľadové lezenie a drytooling
END:VEVENT
BEGIN:VEVENT
DTSTART;VALUE=DATE:20260319
DTEND;VALUE=DATE:20260322
DTSTAMP:20260425T185537
CREATED:20260303T162854Z
LAST-MODIFIED:20260425T162900Z
UID:214890-1773878400-1774137599@shsjames.sk
SUMMARY:Bokami\, skialp
DESCRIPTION:
URL:https://shsjames.sk/akcia/bokami-skialp/
CATEGORIES:Skialpinistické podujatia
END:VEVENT
BEGIN:VEVENT
DTSTART;VALUE=DATE:20260328
DTEND;VALUE=DATE:20260329
DTSTAMP:20260425T185537
CREATED:20260303T162409Z
LAST-MODIFIED:20260425T162518Z
UID:214870-1774656000-1774742399@shsjames.sk
SUMMARY:SPDaM\, Boulder\, A-kategória\, Lozilla LM
DESCRIPTION:
URL:https://shsjames.sk/akcia/spdam-boulder-a-kategoria-lozilla-lm/
CATEGORIES:Športové lezenie - MSR, SP
END:VEVENT
BEGIN:VEVENT
DTSTART;VALUE=DATE:20260329
DTEND;VALUE=DATE:20260330
DTSTAMP:20260425T185537
CREATED:20260303T162409Z
LAST-MODIFIED:20260425T162518Z
UID:214871-1774742400-1774828799@shsjames.sk
SUMMARY:SPD Boulder\, A kategória\, Wallhala Stará Ľubovňa
DESCRIPTION:
URL:https://shsjames.sk/akcia/spd-boulder-a-kategoria-wallhala-stara-lubovna/
CATEGORIES:Športové lezenie - MSR, SP
END:VEVENT
END:VCALENDAR