BEGIN:VCALENDAR
VERSION:2.0
PRODID:-//SHS JAMES - ECPv6.15.20//NONSGML v1.0//EN
CALSCALE:GREGORIAN
METHOD:PUBLISH
X-WR-CALNAME:SHS JAMES
X-ORIGINAL-URL:https://shsjames.sk
X-WR-CALDESC:Udalosti pre SHS JAMES
REFRESH-INTERVAL;VALUE=DURATION:PT1H
X-Robots-Tag:noindex
X-PUBLISHED-TTL:PT1H
BEGIN:VTIMEZONE
TZID:UTC
BEGIN:STANDARD
TZOFFSETFROM:+0000
TZOFFSETTO:+0000
TZNAME:UTC
DTSTART:20250101T000000
END:STANDARD
END:VTIMEZONE
BEGIN:VEVENT
DTSTART;VALUE=DATE:20260901
DTEND;VALUE=DATE:20260902
DTSTAMP:20260426T050026
CREATED:20240325T190548Z
LAST-MODIFIED:20260426T020826Z
UID:43847-1788220800-1788307199@shsjames.sk
SUMMARY:Deň Ústavy Slovenskej republiky
DESCRIPTION:Pamätný deňPamätné dni skryjete v sekcii Nastavenia Kalendára Google > Sviatky na Slovensku
URL:https://shsjames.sk/akcia/den-ustavy-slovenskej-republiky-8/
CATEGORIES:Sviatky na Slovensku
END:VEVENT
BEGIN:VEVENT
DTSTART;VALUE=DATE:20260915
DTEND;VALUE=DATE:20260916
DTSTAMP:20260426T050026
CREATED:20240325T190548Z
LAST-MODIFIED:20260426T020826Z
UID:43848-1789430400-1789516799@shsjames.sk
SUMMARY:Sviatok sedembolestnej Panny Márie
DESCRIPTION:Pamätný deňPamätné dni skryjete v sekcii Nastavenia Kalendára Google > Sviatky na Slovensku
URL:https://shsjames.sk/akcia/sviatok-sedembolestnej-panny-marie-8/
CATEGORIES:Sviatky na Slovensku
END:VEVENT
END:VCALENDAR