BEGIN:VCALENDAR
VERSION:2.0
PRODID:-//SHS JAMES - ECPv6.15.20//NONSGML v1.0//EN
CALSCALE:GREGORIAN
METHOD:PUBLISH
X-WR-CALNAME:SHS JAMES
X-ORIGINAL-URL:https://shsjames.sk
X-WR-CALDESC:Udalosti pre SHS JAMES
REFRESH-INTERVAL;VALUE=DURATION:PT1H
X-Robots-Tag:noindex
X-PUBLISHED-TTL:PT1H
BEGIN:VTIMEZONE
TZID:UTC
BEGIN:STANDARD
TZOFFSETFROM:+0000
TZOFFSETTO:+0000
TZNAME:UTC
DTSTART:20240101T000000
END:STANDARD
END:VTIMEZONE
BEGIN:VEVENT
DTSTART;VALUE=DATE:20260329
DTEND;VALUE=DATE:20260330
DTSTAMP:20260426T010029
CREATED:20260303T162409Z
LAST-MODIFIED:20260425T222404Z
UID:214871-1774742400-1774828799@shsjames.sk
SUMMARY:SPD Boulder\, A kategória\, Wallhala Stará Ľubovňa
DESCRIPTION:
URL:https://shsjames.sk/akcia/spd-boulder-a-kategoria-wallhala-stara-lubovna/
CATEGORIES:Športové lezenie - MSR, SP
END:VEVENT
BEGIN:VEVENT
DTSTART;VALUE=DATE:20260328
DTEND;VALUE=DATE:20260329
DTSTAMP:20260426T010029
CREATED:20260303T162409Z
LAST-MODIFIED:20260425T222404Z
UID:214870-1774656000-1774742399@shsjames.sk
SUMMARY:SPDaM\, Boulder\, A-kategória\, Lozilla LM
DESCRIPTION:
URL:https://shsjames.sk/akcia/spdam-boulder-a-kategoria-lozilla-lm/
CATEGORIES:Športové lezenie - MSR, SP
END:VEVENT
BEGIN:VEVENT
DTSTART;VALUE=DATE:20260319
DTEND;VALUE=DATE:20260322
DTSTAMP:20260426T010029
CREATED:20260303T162854Z
LAST-MODIFIED:20260425T222812Z
UID:214890-1773878400-1774137599@shsjames.sk
SUMMARY:Bokami\, skialp
DESCRIPTION:
URL:https://shsjames.sk/akcia/bokami-skialp/
CATEGORIES:Skialpinistické podujatia
END:VEVENT
BEGIN:VEVENT
DTSTART;VALUE=DATE:20260307
DTEND;VALUE=DATE:20260308
DTSTAMP:20260426T010029
CREATED:20260303T152903Z
LAST-MODIFIED:20260425T222920Z
UID:214864-1772841600-1772927999@shsjames.sk
SUMMARY:Coninental Youth Cup\, drytool\, Oulu (FIN)
DESCRIPTION:
URL:https://shsjames.sk/akcia/coninental-youth-cup-drytool-oulu-fin/
CATEGORIES:Ľadové lezenie a drytooling
END:VEVENT
BEGIN:VEVENT
DTSTART;VALUE=DATE:20260307
DTEND;VALUE=DATE:20260308
DTSTAMP:20260426T010029
CREATED:20260303T152902Z
LAST-MODIFIED:20260425T222920Z
UID:214863-1772841600-1772927999@shsjames.sk
SUMMARY:Continental Cup\, drytool\, Oulu (FIN)
DESCRIPTION:
URL:https://shsjames.sk/akcia/continental-cup-drytool-oulu-fin/
CATEGORIES:Ľadové lezenie a drytooling
END:VEVENT
BEGIN:VEVENT
DTSTART;VALUE=DATE:20260106
DTEND;VALUE=DATE:20260107
DTSTAMP:20260426T010029
CREATED:20240325T190547Z
LAST-MODIFIED:20260425T220732Z
UID:43839-1767657600-1767743999@shsjames.sk
SUMMARY:Zjavenie Pána
DESCRIPTION:Štátny sviatok
URL:https://shsjames.sk/akcia/zjavenie-pana-8/
CATEGORIES:Sviatky na Slovensku
END:VEVENT
BEGIN:VEVENT
DTSTART;VALUE=DATE:20260101
DTEND;VALUE=DATE:20260102
DTSTAMP:20260426T010029
CREATED:20240325T190547Z
LAST-MODIFIED:20260425T220732Z
UID:43838-1767225600-1767311999@shsjames.sk
SUMMARY:Deň vzniku Slovenskej republiky
DESCRIPTION:Štátny sviatok
URL:https://shsjames.sk/akcia/den-vzniku-slovenskej-republiky-8/
CATEGORIES:Sviatky na Slovensku
END:VEVENT
BEGIN:VEVENT
DTSTART;VALUE=DATE:20251226
DTEND;VALUE=DATE:20251227
DTSTAMP:20260426T010029
CREATED:20240101T000538Z
LAST-MODIFIED:20260425T220732Z
UID:22411-1766707200-1766793599@shsjames.sk
SUMMARY:Druhý sviatok vianočný
DESCRIPTION:Štátny sviatok
URL:https://shsjames.sk/akcia/druhy-sviatok-vianocny/
CATEGORIES:Sviatky na Slovensku
END:VEVENT
BEGIN:VEVENT
DTSTART;VALUE=DATE:20251225
DTEND;VALUE=DATE:20251226
DTSTAMP:20260426T010029
CREATED:20240101T000538Z
LAST-MODIFIED:20260425T220732Z
UID:22410-1766620800-1766707199@shsjames.sk
SUMMARY:Prvý sviatok vianočný
DESCRIPTION:Štátny sviatok
URL:https://shsjames.sk/akcia/prvy-sviatok-vianocny/
CATEGORIES:Sviatky na Slovensku
END:VEVENT
BEGIN:VEVENT
DTSTART;VALUE=DATE:20251224
DTEND;VALUE=DATE:20251225
DTSTAMP:20260426T010029
CREATED:20240101T000538Z
LAST-MODIFIED:20260425T220732Z
UID:22409-1766534400-1766620799@shsjames.sk
SUMMARY:Ŝtedrý deň
DESCRIPTION:Štátny sviatok
URL:https://shsjames.sk/akcia/stedry-den/
CATEGORIES:Sviatky na Slovensku
END:VEVENT
BEGIN:VEVENT
DTSTART;VALUE=DATE:20251221
DTEND;VALUE=DATE:20251222
DTSTAMP:20260426T010029
CREATED:20251111T143002Z
LAST-MODIFIED:20260425T223134Z
UID:191965-1766275200-1766361599@shsjames.sk
SUMMARY:SPD Boulder Ovčín C Turčianske Jaseno
DESCRIPTION:
URL:https://shsjames.sk/akcia/spd-boulder-ovcin-c-turcianske-jaseno/
CATEGORIES:Športové lezenie - SP B a C, ostatné preteky
END:VEVENT
BEGIN:VEVENT
DTSTART;VALUE=DATE:20251220
DTEND;VALUE=DATE:20251221
DTSTAMP:20260426T010029
CREATED:20251111T143002Z
LAST-MODIFIED:20260425T223134Z
UID:191964-1766188800-1766275199@shsjames.sk
SUMMARY:SPDaM Boulder Ovčín C Turčianske Jaseno
DESCRIPTION:
URL:https://shsjames.sk/akcia/spdam-boulder-ovcin-c-turcianske-jaseno/
CATEGORIES:Športové lezenie - SP B a C, ostatné preteky
END:VEVENT
BEGIN:VEVENT
DTSTART;VALUE=DATE:20251214
DTEND;VALUE=DATE:20251215
DTSTAMP:20260426T010029
CREATED:20251111T143001Z
LAST-MODIFIED:20260425T223134Z
UID:191963-1765670400-1765756799@shsjames.sk
SUMMARY:SPD Boulder Trnava B
DESCRIPTION:
URL:https://shsjames.sk/akcia/spd-boulder-trnava-b/
CATEGORIES:Športové lezenie - SP B a C, ostatné preteky
END:VEVENT
BEGIN:VEVENT
DTSTART;VALUE=DATE:20251213
DTEND;VALUE=DATE:20251214
DTSTAMP:20260426T010029
CREATED:20251125T172533Z
LAST-MODIFIED:20260425T222503Z
UID:194866-1765584000-1765670399@shsjames.sk
SUMMARY:Sústredenie + vyhodnotenie SPD 2025 U9-U15: LA SKALA
DESCRIPTION:
URL:https://shsjames.sk/akcia/sustredenie-vyhodnotenie-spd-2025-u9-u15-la-skala/
CATEGORIES:Športové lezenie - iné podujatia
END:VEVENT
BEGIN:VEVENT
DTSTART;VALUE=DATE:20251213
DTEND;VALUE=DATE:20251214
DTSTAMP:20260426T010029
CREATED:20251013T133133Z
LAST-MODIFIED:20260425T223134Z
UID:185487-1765584000-1765670399@shsjames.sk
SUMMARY:Detská lezecká Singingrock liga Trenčín
DESCRIPTION:
URL:https://shsjames.sk/akcia/detska-lezecka-singingrock-liga-trencin-3/
CATEGORIES:Športové lezenie - SP B a C, ostatné preteky
END:VEVENT
BEGIN:VEVENT
DTSTART;VALUE=DATE:20251206
DTEND;VALUE=DATE:20251207
DTSTAMP:20260426T010029
CREATED:20250312T182843Z
LAST-MODIFIED:20260425T223134Z
UID:131728-1764979200-1765065599@shsjames.sk
SUMMARY:Mikulášska Lozillica\, boulder\, Liptovský Mikuláš
DESCRIPTION:
URL:https://shsjames.sk/akcia/mikulasska-lozillica-boulder-liptovsky-mikulas/
CATEGORIES:Športové lezenie - SP B a C, ostatné preteky
END:VEVENT
BEGIN:VEVENT
DTSTART;VALUE=DATE:20251129
DTEND;VALUE=DATE:20251130
DTSTAMP:20260426T010029
CREATED:20251125T172533Z
LAST-MODIFIED:20260425T222503Z
UID:194865-1764374400-1764460799@shsjames.sk
SUMMARY:Sústredenie + vyhodnotenie SPDaM 2025: LA SKALA
DESCRIPTION:
URL:https://shsjames.sk/akcia/sustredenie-vyhodnotenie-spdam-2025-la-skala/
CATEGORIES:Športové lezenie - iné podujatia
END:VEVENT
BEGIN:VEVENT
DTSTART;VALUE=DATE:20251122
DTEND;VALUE=DATE:20251123
DTSTAMP:20260426T010029
CREATED:20251111T143001Z
LAST-MODIFIED:20260425T223134Z
UID:191961-1763769600-1763855999@shsjames.sk
SUMMARY:UPJŠ Košice boulder C
DESCRIPTION:
URL:https://shsjames.sk/akcia/upjs-kosice-boulder-c/
CATEGORIES:Športové lezenie - SP B a C, ostatné preteky
END:VEVENT
BEGIN:VEVENT
DTSTART;VALUE=DATE:20251117
DTEND;VALUE=DATE:20251118
DTSTAMP:20260426T010029
CREATED:20240101T000538Z
LAST-MODIFIED:20260425T220732Z
UID:22408-1763337600-1763423999@shsjames.sk
SUMMARY:Deň boja za slobodu a demokraciu
DESCRIPTION:Pamätný deňPamätné dni skryjete v sekcii Nastavenia Kalendára Google > Sviatky na Slovensku
URL:https://shsjames.sk/akcia/den-boja-za-slobodu-a-demokraciu/
CATEGORIES:Sviatky na Slovensku
END:VEVENT
BEGIN:VEVENT
DTSTART;VALUE=DATE:20251115
DTEND;VALUE=DATE:20251116
DTSTAMP:20260426T010029
CREATED:20251112T143225Z
LAST-MODIFIED:20260425T223134Z
UID:192175-1763164800-1763251199@shsjames.sk
SUMMARY:Spotlight Boulder Jam\, Spot Bratislava
DESCRIPTION:
URL:https://shsjames.sk/akcia/spotlight-boulder-jam-spot-bratislava/
CATEGORIES:Športové lezenie - SP B a C, ostatné preteky
END:VEVENT
BEGIN:VEVENT
DTSTART;VALUE=DATE:20251115
DTEND;VALUE=DATE:20251116
DTSTAMP:20260426T010029
CREATED:20251013T133132Z
LAST-MODIFIED:20260425T223134Z
UID:185486-1763164800-1763251199@shsjames.sk
SUMMARY:Detská lezecká Singingrock liga Trenčín
DESCRIPTION:
URL:https://shsjames.sk/akcia/detska-lezecka-singingrock-liga-trencin-2/
CATEGORIES:Športové lezenie - SP B a C, ostatné preteky
END:VEVENT
BEGIN:VEVENT
DTSTART;VALUE=DATE:20251102
DTEND;VALUE=DATE:20251103
DTSTAMP:20260426T010029
CREATED:20250529T172459Z
LAST-MODIFIED:20260425T222707Z
UID:151163-1762041600-1762127999@shsjames.sk
SUMMARY:EYC lead Francúzsko
DESCRIPTION:
URL:https://shsjames.sk/akcia/eyc-lead-francuzsko/
CATEGORIES:Športové lezenie - Európsky pohár mládeže
END:VEVENT
BEGIN:VEVENT
DTSTART;VALUE=DATE:20251101
DTEND;VALUE=DATE:20251102
DTSTAMP:20260426T010029
CREATED:20250529T172508Z
LAST-MODIFIED:20251103T072826Z
UID:151169-1761955200-1762041599@shsjames.sk
SUMMARY:EC lead Francúzsko
DESCRIPTION:
URL:https://shsjames.sk/akcia/ec-lead-francuzsko/
CATEGORIES:Športové lezenie - Európsky pohár
END:VEVENT
BEGIN:VEVENT
DTSTART;VALUE=DATE:20251101
DTEND;VALUE=DATE:20251102
DTSTAMP:20260426T010029
CREATED:20240101T000538Z
LAST-MODIFIED:20260425T220732Z
UID:22407-1761955200-1762041599@shsjames.sk
SUMMARY:Sviatok vŝetkých svätých
DESCRIPTION:Štátny sviatok
URL:https://shsjames.sk/akcia/sviatok-vsetkych-svatych/
CATEGORIES:Sviatky na Slovensku
END:VEVENT
BEGIN:VEVENT
DTSTART;VALUE=DATE:20251026
DTEND;VALUE=DATE:20251027
DTSTAMP:20260426T010029
CREATED:20251013T133132Z
LAST-MODIFIED:20260425T223134Z
UID:185485-1761436800-1761523199@shsjames.sk
SUMMARY:Gravity Boulder Open Prešov
DESCRIPTION:
URL:https://shsjames.sk/akcia/gravity-boulder-open-presov/
CATEGORIES:Športové lezenie - SP B a C, ostatné preteky
END:VEVENT
BEGIN:VEVENT
DTSTART;VALUE=DATE:20251026
DTEND;VALUE=DATE:20251027
DTSTAMP:20260426T010029
CREATED:20250529T172508Z
LAST-MODIFIED:20251103T072826Z
UID:151168-1761436800-1761523199@shsjames.sk
SUMMARY:EC speed Francúzsko
DESCRIPTION:
URL:https://shsjames.sk/akcia/ec-speed-francuzsko/
CATEGORIES:Športové lezenie - Európsky pohár
END:VEVENT
BEGIN:VEVENT
DTSTART;VALUE=DATE:20251025
DTEND;VALUE=DATE:20251026
DTSTAMP:20260426T010029
CREATED:20250529T172459Z
LAST-MODIFIED:20260425T222707Z
UID:151162-1761350400-1761436799@shsjames.sk
SUMMARY:EYC speed Francúzsko
DESCRIPTION:
URL:https://shsjames.sk/akcia/eyc-speed-francuzsko/
CATEGORIES:Športové lezenie - Európsky pohár mládeže
END:VEVENT
BEGIN:VEVENT
DTSTART;VALUE=DATE:20251025
DTEND;VALUE=DATE:20251026
DTSTAMP:20260426T010029
CREATED:20250529T172249Z
LAST-MODIFIED:20260425T222404Z
UID:151153-1761350400-1761436799@shsjames.sk
SUMMARY:SPD lead Rozlomity Košice
DESCRIPTION:
URL:https://shsjames.sk/akcia/spd-lead-rozlomity-kosice/
CATEGORIES:Športové lezenie - MSR, SP
END:VEVENT
BEGIN:VEVENT
DTSTART;VALUE=DATE:20251019
DTEND;VALUE=DATE:20251020
DTSTAMP:20260426T010029
CREATED:20250529T172901Z
LAST-MODIFIED:20260425T223134Z
UID:151180-1760832000-1760918399@shsjames.sk
SUMMARY:SPD boulder T2 Košice
DESCRIPTION:
URL:https://shsjames.sk/akcia/spd-boulder-t2-kosice/
CATEGORIES:Športové lezenie - SP B a C, ostatné preteky
END:VEVENT
BEGIN:VEVENT
DTSTART;VALUE=DATE:20251018
DTEND;VALUE=DATE:20251019
DTSTAMP:20260426T010029
CREATED:20251013T133132Z
LAST-MODIFIED:20260425T223134Z
UID:185484-1760745600-1760831999@shsjames.sk
SUMMARY:Detská lezecká Singingrock liga Trenčín
DESCRIPTION:
URL:https://shsjames.sk/akcia/detska-lezecka-singingrock-liga-trencin/
CATEGORIES:Športové lezenie - SP B a C, ostatné preteky
END:VEVENT
END:VCALENDAR