BEGIN:VCALENDAR
VERSION:2.0
PRODID:-//SHS JAMES - ECPv6.15.20//NONSGML v1.0//EN
CALSCALE:GREGORIAN
METHOD:PUBLISH
X-ORIGINAL-URL:https://shsjames.sk
X-WR-CALDESC:Udalosti pre SHS JAMES
REFRESH-INTERVAL;VALUE=DURATION:PT1H
X-Robots-Tag:noindex
X-PUBLISHED-TTL:PT1H
BEGIN:VTIMEZONE
TZID:UTC
BEGIN:STANDARD
TZOFFSETFROM:+0000
TZOFFSETTO:+0000
TZNAME:UTC
DTSTART:20250101T000000
END:STANDARD
END:VTIMEZONE
BEGIN:VEVENT
DTSTART;VALUE=DATE:20260425
DTEND;VALUE=DATE:20260427
DTSTAMP:20260425T173406
CREATED:20260303T162515Z
LAST-MODIFIED:20260425T152501Z
UID:214877-1777075200-1777247999@shsjames.sk
SUMMARY:World Climbing children  lokal competition Praha  (CZE)
DESCRIPTION:
URL:https://shsjames.sk/akcia/world-climbing-children-lokal-competition-praha-cze/
CATEGORIES:Športové lezenie - iné podujatia
END:VEVENT
BEGIN:VEVENT
DTSTART;VALUE=DATE:20260501
DTEND;VALUE=DATE:20260502
DTSTAMP:20260425T173406
CREATED:20240325T190548Z
LAST-MODIFIED:20260425T150758Z
UID:43843-1777593600-1777679999@shsjames.sk
SUMMARY:Sviatok práce
DESCRIPTION:Štátny sviatok
URL:https://shsjames.sk/akcia/sviatok-prace-8/
CATEGORIES:Sviatky na Slovensku
END:VEVENT
BEGIN:VEVENT
DTSTART;VALUE=DATE:20260501
DTEND;VALUE=DATE:20260504
DTSTAMP:20260425T173406
CREATED:20260303T162515Z
LAST-MODIFIED:20260425T152501Z
UID:214878-1777593600-1777852799@shsjames.sk
SUMMARY:World Climbing Series  Keqiao\, Boulder\, Čína
DESCRIPTION:
URL:https://shsjames.sk/akcia/world-climbing-series-keqiao-boulder-cina/
CATEGORIES:Športové lezenie - iné podujatia
END:VEVENT
BEGIN:VEVENT
DTSTART;VALUE=DATE:20260508
DTEND;VALUE=DATE:20260509
DTSTAMP:20260425T173406
CREATED:20240325T190548Z
LAST-MODIFIED:20260425T150758Z
UID:43844-1778198400-1778284799@shsjames.sk
SUMMARY:Deň víťazstva nad faŝizmom
DESCRIPTION:Pamätný deňPamätné dni skryjete v sekcii Nastavenia Kalendára Google > Sviatky na Slovensku
URL:https://shsjames.sk/akcia/den-vitazstva-nad-fasizmom-8/
CATEGORIES:Sviatky na Slovensku
END:VEVENT
BEGIN:VEVENT
DTSTART;VALUE=DATE:20260508
DTEND;VALUE=DATE:20260511
DTSTAMP:20260425T173406
CREATED:20260303T162516Z
LAST-MODIFIED:20260425T152501Z
UID:214879-1778198400-1778457599@shsjames.sk
SUMMARY:World Climbing Series  Wujiang\, Lead\, Speed\,  Čína
DESCRIPTION:
URL:https://shsjames.sk/akcia/world-climbing-series-wujiang-lead-speed-cina/
CATEGORIES:Športové lezenie - iné podujatia
END:VEVENT
BEGIN:VEVENT
DTSTART;VALUE=DATE:20260509
DTEND;VALUE=DATE:20260510
DTSTAMP:20260425T173406
CREATED:20260303T162409Z
LAST-MODIFIED:20260425T152347Z
UID:214873-1778284800-1778371199@shsjames.sk
SUMMARY:M SR Boulder
DESCRIPTION:
URL:https://shsjames.sk/akcia/m-sr-boulder-outdoorpark-presov-2/
CATEGORIES:Športové lezenie - MSR, SP
END:VEVENT
BEGIN:VEVENT
DTSTART;VALUE=DATE:20260515
DTEND;VALUE=DATE:20260517
DTSTAMP:20260425T173406
CREATED:20260303T162516Z
LAST-MODIFIED:20260425T152501Z
UID:214880-1778803200-1778975999@shsjames.sk
SUMMARY:World Climbing Para  Series Salt Lake City\,  Lead\, USA
DESCRIPTION:
URL:https://shsjames.sk/akcia/world-climbing-para-series-salt-lake-city-lead-usa/
CATEGORIES:Športové lezenie - iné podujatia
END:VEVENT
BEGIN:VEVENT
DTSTART;VALUE=DATE:20260523
DTEND;VALUE=DATE:20260524
DTSTAMP:20260425T173406
CREATED:20260303T162409Z
LAST-MODIFIED:20260425T152347Z
UID:214874-1779494400-1779580799@shsjames.sk
SUMMARY:SPD lead A
DESCRIPTION:
URL:https://shsjames.sk/akcia/spd-lead-a/
CATEGORIES:Športové lezenie - MSR, SP
END:VEVENT
BEGIN:VEVENT
DTSTART;VALUE=DATE:20260524
DTEND;VALUE=DATE:20260525
DTSTAMP:20260425T173406
CREATED:20260303T162409Z
LAST-MODIFIED:20260425T152347Z
UID:214875-1779580800-1779667199@shsjames.sk
SUMMARY:SPDaM Speed A
DESCRIPTION:
URL:https://shsjames.sk/akcia/spdam-speed-a/
CATEGORIES:Športové lezenie - MSR, SP
END:VEVENT
BEGIN:VEVENT
DTSTART;VALUE=DATE:20260524
DTEND;VALUE=DATE:20260525
DTSTAMP:20260425T173406
CREATED:20260303T162409Z
LAST-MODIFIED:20260425T152347Z
UID:214876-1779580800-1779667199@shsjames.sk
SUMMARY:SPD Speed A
DESCRIPTION:
URL:https://shsjames.sk/akcia/spd-speed-a/
CATEGORIES:Športové lezenie - MSR, SP
END:VEVENT
BEGIN:VEVENT
DTSTART;VALUE=DATE:20260530
DTEND;VALUE=DATE:20260601
DTSTAMP:20260425T173406
CREATED:20260303T162744Z
LAST-MODIFIED:20260425T152745Z
UID:214887-1780099200-1780271999@shsjames.sk
SUMMARY:World Climbing Europe  Youth Series Brusel\,  Boulder\, Belgicko
DESCRIPTION:
URL:https://shsjames.sk/akcia/world-climbing-europe-youth-series-brusel-boulder-belgicko/
CATEGORIES:Športové lezenie - Európsky pohár mládeže
END:VEVENT
BEGIN:VEVENT
DTSTART;VALUE=DATE:20260606
DTEND;VALUE=DATE:20260607
DTSTAMP:20260425T173406
CREATED:20260303T163141Z
LAST-MODIFIED:20260425T153153Z
UID:214898-1780704000-1780790399@shsjames.sk
SUMMARY:SPD Lead C Pavúk  Banská Bystrica
DESCRIPTION:
URL:https://shsjames.sk/akcia/spd-lead-c-pavuk-banska-bystrica/
CATEGORIES:Športové lezenie - SP B a C, ostatné preteky
END:VEVENT
BEGIN:VEVENT
DTSTART;VALUE=DATE:20260612
DTEND;VALUE=DATE:20260615
DTSTAMP:20260425T173406
CREATED:20260303T162744Z
LAST-MODIFIED:20260425T152745Z
UID:214888-1781222400-1781481599@shsjames.sk
SUMMARY:World Climbing Europe  Youth Championship  Sukoro\, Boulder\, Maďarsko
DESCRIPTION:
URL:https://shsjames.sk/akcia/world-climbing-europe-youth-championship-sukoro-boulder-madarsko/
CATEGORIES:Športové lezenie - Európsky pohár mládeže
END:VEVENT
BEGIN:VEVENT
DTSTART;VALUE=DATE:20260613
DTEND;VALUE=DATE:20260614
DTSTAMP:20260425T173406
CREATED:20260303T162744Z
LAST-MODIFIED:20260425T152745Z
UID:214889-1781308800-1781395199@shsjames.sk
SUMMARY:World Climbing Europe Youth  Championship Zakopané\,  Speed\, Poľsko
DESCRIPTION:
URL:https://shsjames.sk/akcia/world-climbing-europe-youth-championship-zakopane-speed-polsko/
CATEGORIES:Športové lezenie - Európsky pohár mládeže
END:VEVENT
BEGIN:VEVENT
DTSTART;VALUE=DATE:20260613
DTEND;VALUE=DATE:20260615
DTSTAMP:20260425T173406
CREATED:20260303T162516Z
LAST-MODIFIED:20260425T152501Z
UID:214881-1781308800-1781481599@shsjames.sk
SUMMARY:Youth Color Climbing  Festival Imst\, Rakúsko
DESCRIPTION:
URL:https://shsjames.sk/akcia/youth-color-climbing-festival-imst-rakusko/
CATEGORIES:Športové lezenie - iné podujatia
END:VEVENT
BEGIN:VEVENT
DTSTART;VALUE=DATE:20260615
DTEND;VALUE=DATE:20260617
DTSTAMP:20260425T173406
CREATED:20260303T162516Z
LAST-MODIFIED:20260425T152501Z
UID:214882-1781481600-1781654399@shsjames.sk
SUMMARY:World Climbing Para  Series Innsbruck\, Lead\,  Rakúsko
DESCRIPTION:
URL:https://shsjames.sk/akcia/world-climbing-para-series-innsbruck-lead-rakusko/
CATEGORIES:Športové lezenie - iné podujatia
END:VEVENT
BEGIN:VEVENT
DTSTART;VALUE=DATE:20260620
DTEND;VALUE=DATE:20260622
DTSTAMP:20260425T173406
CREATED:20260303T162516Z
LAST-MODIFIED:20260425T152501Z
UID:214883-1781913600-1782086399@shsjames.sk
SUMMARY:World Climbing children lokal  competition Sukoro (HUN)
DESCRIPTION:
URL:https://shsjames.sk/akcia/world-climbing-children-lokal-competition-sukoro-hun/
CATEGORIES:Športové lezenie - iné podujatia
END:VEVENT
BEGIN:VEVENT
DTSTART;VALUE=DATE:20260705
DTEND;VALUE=DATE:20260706
DTSTAMP:20260425T173406
CREATED:20240325T190548Z
LAST-MODIFIED:20260425T150758Z
UID:43845-1783209600-1783295999@shsjames.sk
SUMMARY:Sviatok svätého Cyrila a Metoda
DESCRIPTION:Štátny sviatok
URL:https://shsjames.sk/akcia/sviatok-svateho-cyrila-a-metoda-8/
CATEGORIES:Sviatky na Slovensku
END:VEVENT
BEGIN:VEVENT
DTSTART;VALUE=DATE:20260829
DTEND;VALUE=DATE:20260830
DTSTAMP:20260425T173406
CREATED:20240325T190548Z
LAST-MODIFIED:20260425T150758Z
UID:43846-1787961600-1788047999@shsjames.sk
SUMMARY:Výročie SNP
DESCRIPTION:Štátny sviatok
URL:https://shsjames.sk/akcia/vyrocie-snp-8/
CATEGORIES:Sviatky na Slovensku
END:VEVENT
BEGIN:VEVENT
DTSTART;VALUE=DATE:20260901
DTEND;VALUE=DATE:20260902
DTSTAMP:20260425T173406
CREATED:20240325T190548Z
LAST-MODIFIED:20260425T150758Z
UID:43847-1788220800-1788307199@shsjames.sk
SUMMARY:Deň Ústavy Slovenskej republiky
DESCRIPTION:Pamätný deňPamätné dni skryjete v sekcii Nastavenia Kalendára Google > Sviatky na Slovensku
URL:https://shsjames.sk/akcia/den-ustavy-slovenskej-republiky-8/
CATEGORIES:Sviatky na Slovensku
END:VEVENT
BEGIN:VEVENT
DTSTART;VALUE=DATE:20260915
DTEND;VALUE=DATE:20260916
DTSTAMP:20260425T173406
CREATED:20240325T190548Z
LAST-MODIFIED:20260425T150758Z
UID:43848-1789430400-1789516799@shsjames.sk
SUMMARY:Sviatok sedembolestnej Panny Márie
DESCRIPTION:Pamätný deňPamätné dni skryjete v sekcii Nastavenia Kalendára Google > Sviatky na Slovensku
URL:https://shsjames.sk/akcia/sviatok-sedembolestnej-panny-marie-8/
CATEGORIES:Sviatky na Slovensku
END:VEVENT
BEGIN:VEVENT
DTSTART;VALUE=DATE:20261101
DTEND;VALUE=DATE:20261102
DTSTAMP:20260425T173406
CREATED:20240325T190548Z
LAST-MODIFIED:20260425T150758Z
UID:43849-1793491200-1793577599@shsjames.sk
SUMMARY:Sviatok vŝetkých svätých
DESCRIPTION:Štátny sviatok
URL:https://shsjames.sk/akcia/sviatok-vsetkych-svatych-8/
CATEGORIES:Sviatky na Slovensku
END:VEVENT
BEGIN:VEVENT
DTSTART;VALUE=DATE:20261117
DTEND;VALUE=DATE:20261118
DTSTAMP:20260425T173406
CREATED:20240325T190548Z
LAST-MODIFIED:20260425T150758Z
UID:43850-1794873600-1794959999@shsjames.sk
SUMMARY:Deň boja za slobodu a demokraciu
DESCRIPTION:Pamätný deňPamätné dni skryjete v sekcii Nastavenia Kalendára Google > Sviatky na Slovensku
URL:https://shsjames.sk/akcia/den-boja-za-slobodu-a-demokraciu-8/
CATEGORIES:Sviatky na Slovensku
END:VEVENT
BEGIN:VEVENT
DTSTART;VALUE=DATE:20261224
DTEND;VALUE=DATE:20261225
DTSTAMP:20260425T173406
CREATED:20240325T190548Z
LAST-MODIFIED:20260425T150758Z
UID:43851-1798070400-1798156799@shsjames.sk
SUMMARY:Ŝtedrý deň
DESCRIPTION:Štátny sviatok
URL:https://shsjames.sk/akcia/stedry-den-8/
CATEGORIES:Sviatky na Slovensku
END:VEVENT
BEGIN:VEVENT
DTSTART;VALUE=DATE:20261225
DTEND;VALUE=DATE:20261226
DTSTAMP:20260425T173406
CREATED:20240325T190548Z
LAST-MODIFIED:20260425T150758Z
UID:43852-1798156800-1798243199@shsjames.sk
SUMMARY:Prvý sviatok vianočný
DESCRIPTION:Štátny sviatok
URL:https://shsjames.sk/akcia/prvy-sviatok-vianocny-8/
CATEGORIES:Sviatky na Slovensku
END:VEVENT
BEGIN:VEVENT
DTSTART;VALUE=DATE:20261226
DTEND;VALUE=DATE:20261227
DTSTAMP:20260425T173406
CREATED:20240325T190548Z
LAST-MODIFIED:20260425T150758Z
UID:43853-1798243200-1798329599@shsjames.sk
SUMMARY:Druhý sviatok vianočný
DESCRIPTION:Štátny sviatok
URL:https://shsjames.sk/akcia/druhy-sviatok-vianocny-8/
CATEGORIES:Sviatky na Slovensku
END:VEVENT
BEGIN:VEVENT
DTSTART;VALUE=DATE:20270101
DTEND;VALUE=DATE:20270102
DTSTAMP:20260425T173406
CREATED:20240325T190548Z
LAST-MODIFIED:20260425T150758Z
UID:43854-1798761600-1798847999@shsjames.sk
SUMMARY:Deň vzniku Slovenskej republiky
DESCRIPTION:Štátny sviatok
URL:https://shsjames.sk/akcia/den-vzniku-slovenskej-republiky-9/
CATEGORIES:Sviatky na Slovensku
END:VEVENT
BEGIN:VEVENT
DTSTART;VALUE=DATE:20270106
DTEND;VALUE=DATE:20270107
DTSTAMP:20260425T173406
CREATED:20240325T190549Z
LAST-MODIFIED:20260425T150758Z
UID:43855-1799193600-1799279999@shsjames.sk
SUMMARY:Zjavenie Pána
DESCRIPTION:Štátny sviatok
URL:https://shsjames.sk/akcia/zjavenie-pana-9/
CATEGORIES:Sviatky na Slovensku
END:VEVENT
BEGIN:VEVENT
DTSTART;VALUE=DATE:20270326
DTEND;VALUE=DATE:20270327
DTSTAMP:20260425T173406
CREATED:20240325T190549Z
LAST-MODIFIED:20260425T150758Z
UID:43856-1806019200-1806105599@shsjames.sk
SUMMARY:Veľký piatok
DESCRIPTION:Štátny sviatok
URL:https://shsjames.sk/akcia/velky-piatok-9/
CATEGORIES:Sviatky na Slovensku
END:VEVENT
BEGIN:VEVENT
DTSTART;VALUE=DATE:20270328
DTEND;VALUE=DATE:20270329
DTSTAMP:20260425T173406
CREATED:20240325T190549Z
LAST-MODIFIED:20260425T150759Z
UID:43857-1806192000-1806278399@shsjames.sk
SUMMARY:Veľkonočná nedeľa
DESCRIPTION:Pamätný deňPamätné dni skryjete v sekcii Nastavenia Kalendára Google > Sviatky na Slovensku
URL:https://shsjames.sk/akcia/velkonocna-nedela-9/
CATEGORIES:Sviatky na Slovensku
END:VEVENT
END:VCALENDAR