BEGIN:VCALENDAR
VERSION:2.0
PRODID:-//SHS JAMES - ECPv6.15.20//NONSGML v1.0//EN
CALSCALE:GREGORIAN
METHOD:PUBLISH
X-WR-CALNAME:SHS JAMES
X-ORIGINAL-URL:https://shsjames.sk
X-WR-CALDESC:Udalosti pre SHS JAMES
REFRESH-INTERVAL;VALUE=DURATION:PT1H
X-Robots-Tag:noindex
X-PUBLISHED-TTL:PT1H
BEGIN:VTIMEZONE
TZID:UTC
BEGIN:STANDARD
TZOFFSETFROM:+0000
TZOFFSETTO:+0000
TZNAME:UTC
DTSTART:20240101T000000
END:STANDARD
END:VTIMEZONE
BEGIN:VEVENT
DTSTART;VALUE=DATE:20250828
DTEND;VALUE=DATE:20250901
DTSTAMP:20260426T055201
CREATED:20250529T162439Z
LAST-MODIFIED:20260426T032823Z
UID:151123-1756339200-1756684799@shsjames.sk
SUMMARY:Youth Europe Championship speed a lead Žilina (SK)
DESCRIPTION:
URL:https://shsjames.sk/akcia/youth-europe-championship-speed-a-lead-zilina-sk/
CATEGORIES:Športové lezenie - Európsky pohár mládeže
END:VEVENT
BEGIN:VEVENT
DTSTART;VALUE=DATE:20250817
DTEND;VALUE=DATE:20250818
DTSTAMP:20260426T055201
CREATED:20250529T162540Z
LAST-MODIFIED:20251103T072826Z
UID:151129-1755388800-1755475199@shsjames.sk
SUMMARY:EC St. Polten speed (A)
DESCRIPTION:
URL:https://shsjames.sk/akcia/ec-st-polten-speed-a/
CATEGORIES:Športové lezenie - Európsky pohár
END:VEVENT
BEGIN:VEVENT
DTSTART;VALUE=DATE:20250816
DTEND;VALUE=DATE:20250817
DTSTAMP:20260426T055201
CREATED:20250529T162439Z
LAST-MODIFIED:20260426T032823Z
UID:151122-1755302400-1755388799@shsjames.sk
SUMMARY:EYC St. Polten speed (A)
DESCRIPTION:
URL:https://shsjames.sk/akcia/eyc-st-polten-speed-a/
CATEGORIES:Športové lezenie - Európsky pohár mládeže
END:VEVENT
BEGIN:VEVENT
DTSTART;VALUE=DATE:20250811
DTEND;VALUE=DATE:20250818
DTSTAMP:20260426T055201
CREATED:20250529T162915Z
LAST-MODIFIED:20260426T033141Z
UID:151133-1754870400-1755475199@shsjames.sk
SUMMARY:101. THT SHS JAMES Vysoké Tatry
DESCRIPTION:
URL:https://shsjames.sk/akcia/101-tht-shs-james-vysoke-tatry/
CATEGORIES:Akcie SHS JAMES
END:VEVENT
BEGIN:VEVENT
DTSTART;VALUE=DATE:20250807
DTEND;VALUE=DATE:20250818
DTSTAMP:20260426T055201
CREATED:20250529T162408Z
LAST-MODIFIED:20260426T032555Z
UID:151120-1754524800-1755475199@shsjames.sk
SUMMARY:World Games speed Chengdu (CHI)
DESCRIPTION:
URL:https://shsjames.sk/akcia/world-games-speed-chengdu-chi/
CATEGORIES:Športové lezenie - iné podujatia
END:VEVENT
BEGIN:VEVENT
DTSTART;VALUE=DATE:20250728
DTEND;VALUE=DATE:20250804
DTSTAMP:20260426T055201
CREATED:20250529T162209Z
LAST-MODIFIED:20250925T132255Z
UID:151117-1753660800-1754265599@shsjames.sk
SUMMARY:Youth World Championship Helsinki (FIN) spúeed\, boulder\, lead
DESCRIPTION:
URL:https://shsjames.sk/akcia/youth-world-championship-helsinki-fin-spueed-boulder-lead/
CATEGORIES:Športové lezenie - Svetový pohár
END:VEVENT
BEGIN:VEVENT
DTSTART;VALUE=DATE:20250726
DTEND;VALUE=DATE:20250727
DTSTAMP:20260426T055201
CREATED:20250529T162209Z
LAST-MODIFIED:20250925T132255Z
UID:151116-1753488000-1753574399@shsjames.sk
SUMMARY:WC speed Klagenfurt (A)
DESCRIPTION:
URL:https://shsjames.sk/akcia/wc-speed-klagenfurt-a/
CATEGORIES:Športové lezenie - Svetový pohár
END:VEVENT
BEGIN:VEVENT
DTSTART;VALUE=DATE:20250719
DTEND;VALUE=DATE:20250721
DTSTAMP:20260426T055201
CREATED:20250529T162439Z
LAST-MODIFIED:20260426T032823Z
UID:151121-1752883200-1753055999@shsjames.sk
SUMMARY:EYC lead\, Bologna (ITA)
DESCRIPTION:
URL:https://shsjames.sk/akcia/eyc-lead-bologna-ita/
CATEGORIES:Športové lezenie - Európsky pohár mládeže
END:VEVENT
BEGIN:VEVENT
DTSTART;VALUE=DATE:20250719
DTEND;VALUE=DATE:20250720
DTSTAMP:20260426T055201
CREATED:20250529T162540Z
LAST-MODIFIED:20251103T072826Z
UID:151128-1752883200-1752969599@shsjames.sk
SUMMARY:EC speed Soure (POR)
DESCRIPTION:
URL:https://shsjames.sk/akcia/ec-speed-soure-por/
CATEGORIES:Športové lezenie - Európsky pohár
END:VEVENT
BEGIN:VEVENT
DTSTART;VALUE=DATE:20250711
DTEND;VALUE=DATE:20250714
DTSTAMP:20260426T055201
CREATED:20250529T162209Z
LAST-MODIFIED:20250925T132255Z
UID:151115-1752192000-1752451199@shsjames.sk
SUMMARY:WC speed\, Chamonix (F)
DESCRIPTION:
URL:https://shsjames.sk/akcia/wc-speed-chamonix-f/
CATEGORIES:Športové lezenie - Svetový pohár
END:VEVENT
BEGIN:VEVENT
DTSTART;VALUE=DATE:20250705
DTEND;VALUE=DATE:20250707
DTSTAMP:20260426T055201
CREATED:20250529T162209Z
LAST-MODIFIED:20250925T132255Z
UID:151114-1751673600-1751846399@shsjames.sk
SUMMARY:WC speed Poľsko
DESCRIPTION:
URL:https://shsjames.sk/akcia/wc-speed-polsko/
CATEGORIES:Športové lezenie - Svetový pohár
END:VEVENT
BEGIN:VEVENT
DTSTART;VALUE=DATE:20250705
DTEND;VALUE=DATE:20250706
DTSTAMP:20260426T055201
CREATED:20240101T000537Z
LAST-MODIFIED:20260426T030651Z
UID:22403-1751673600-1751759999@shsjames.sk
SUMMARY:Sviatok svätého Cyrila a Metoda
DESCRIPTION:Štátny sviatok
URL:https://shsjames.sk/akcia/sviatok-svateho-cyrila-a-metoda/
CATEGORIES:Sviatky na Slovensku
END:VEVENT
BEGIN:VEVENT
DTSTART;VALUE=DATE:20250704
DTEND;VALUE=DATE:20250706
DTSTAMP:20260426T055201
CREATED:20250529T162540Z
LAST-MODIFIED:20251103T072826Z
UID:151127-1751587200-1751759999@shsjames.sk
SUMMARY:EC Ostermundigen (SUI)\, lead
DESCRIPTION:
URL:https://shsjames.sk/akcia/ec-ostermundigen-sui-lead/
CATEGORIES:Športové lezenie - Európsky pohár
END:VEVENT
BEGIN:VEVENT
DTSTART;VALUE=DATE:20250625
DTEND;VALUE=DATE:20250630
DTSTAMP:20260426T055201
CREATED:20250219T202159Z
LAST-MODIFIED:20250925T132255Z
UID:126496-1750809600-1751241599@shsjames.sk
SUMMARY:WC boulder a lead\, Innsbruck\, AUT
DESCRIPTION:
URL:https://shsjames.sk/akcia/wc-boulder-a-lead-innsbruck-aut/
CATEGORIES:Športové lezenie - Svetový pohár
END:VEVENT
BEGIN:VEVENT
DTSTART;VALUE=DATE:20250621
DTEND;VALUE=DATE:20250622
DTSTAMP:20260426T055201
CREATED:20250525T182906Z
LAST-MODIFIED:20260426T033248Z
UID:150204-1750464000-1750550399@shsjames.sk
SUMMARY:Trimfest Budmerice\, SPD boulder
DESCRIPTION:
URL:https://shsjames.sk/akcia/trimfest-budmerice-spd-boulder/
CATEGORIES:Športové lezenie - SP B a C, ostatné preteky
END:VEVENT
BEGIN:VEVENT
DTSTART;VALUE=DATE:20250621
DTEND;VALUE=DATE:20250622
DTSTAMP:20260426T055201
CREATED:20250219T202607Z
LAST-MODIFIED:20251103T072826Z
UID:126517-1750464000-1750550399@shsjames.sk
SUMMARY:EC lead\, Camp di Fassa\, ITA
DESCRIPTION:
URL:https://shsjames.sk/akcia/ec-lead-camp-di-fassa-ita/
CATEGORIES:Športové lezenie - Európsky pohár
END:VEVENT
BEGIN:VEVENT
DTSTART;VALUE=DATE:20250615
DTEND;VALUE=DATE:20250616
DTSTAMP:20260426T055201
CREATED:20250529T163024Z
LAST-MODIFIED:20260426T033247Z
UID:151136-1749945600-1750031999@shsjames.sk
SUMMARY:Memoriál Emila Trubača Kalamárka\, SPD
DESCRIPTION:
URL:https://shsjames.sk/akcia/memorial-emila-trubaca-kalamarka-spd/
CATEGORIES:Športové lezenie - SP B a C, ostatné preteky
END:VEVENT
BEGIN:VEVENT
DTSTART;VALUE=DATE:20250615
DTEND;VALUE=DATE:20250616
DTSTAMP:20260426T055201
CREATED:20250219T202607Z
LAST-MODIFIED:20251103T072826Z
UID:126516-1749945600-1750031999@shsjames.sk
SUMMARY:EC speed\, Zakopane\, POL
DESCRIPTION:
URL:https://shsjames.sk/akcia/ec-speed-zakopane-pol/
CATEGORIES:Športové lezenie - Európsky pohár
END:VEVENT
BEGIN:VEVENT
DTSTART;VALUE=DATE:20250614
DTEND;VALUE=DATE:20250615
DTSTAMP:20260426T055201
CREATED:20250529T163024Z
LAST-MODIFIED:20260426T033247Z
UID:151135-1749859200-1749945599@shsjames.sk
SUMMARY:Vericala Cup\, Banská Štiavnica
DESCRIPTION:
URL:https://shsjames.sk/akcia/vericala-cup-banska-stiavnica/
CATEGORIES:Športové lezenie - SP B a C, ostatné preteky
END:VEVENT
BEGIN:VEVENT
DTSTART;VALUE=DATE:20250614
DTEND;VALUE=DATE:20250615
DTSTAMP:20260426T055201
CREATED:20250529T162540Z
LAST-MODIFIED:20251103T072826Z
UID:151126-1749859200-1749945599@shsjames.sk
SUMMARY:EYC boulder Sukoro\, HU
DESCRIPTION:
URL:https://shsjames.sk/akcia/eyc-boulder-sukoro-hu/
CATEGORIES:Športové lezenie - Európsky pohár
END:VEVENT
BEGIN:VEVENT
DTSTART;VALUE=DATE:20250614
DTEND;VALUE=DATE:20250615
DTSTAMP:20260426T055201
CREATED:20250219T202607Z
LAST-MODIFIED:20251103T072826Z
UID:126515-1749859200-1749945599@shsjames.sk
SUMMARY:EYC speed\, Zakopane\, POIL
DESCRIPTION:
URL:https://shsjames.sk/akcia/eyc-speed-zakopane-poil/
CATEGORIES:Športové lezenie - Európsky pohár
END:VEVENT
BEGIN:VEVENT
DTSTART;VALUE=DATE:20250613
DTEND;VALUE=DATE:20250616
DTSTAMP:20260426T055201
CREATED:20250219T202159Z
LAST-MODIFIED:20250925T132255Z
UID:126495-1749772800-1750031999@shsjames.sk
SUMMARY:WC boulder\, Bern\, SUI
DESCRIPTION:
URL:https://shsjames.sk/akcia/wc-boulder-bern-sui/
CATEGORIES:Športové lezenie - Svetový pohár
END:VEVENT
BEGIN:VEVENT
DTSTART;VALUE=DATE:20250607
DTEND;VALUE=DATE:20250608
DTSTAMP:20260426T055201
CREATED:20250219T202607Z
LAST-MODIFIED:20251103T072826Z
UID:126514-1749254400-1749340799@shsjames.sk
SUMMARY:EC speed\, Mezzolombardo\, ITA
DESCRIPTION:
URL:https://shsjames.sk/akcia/ec-speed-mezzolombardo-ita/
CATEGORIES:Športové lezenie - Európsky pohár
END:VEVENT
BEGIN:VEVENT
DTSTART;VALUE=DATE:20250606
DTEND;VALUE=DATE:20250609
DTSTAMP:20260426T055201
CREATED:20250219T202159Z
LAST-MODIFIED:20250925T132255Z
UID:126494-1749168000-1749427199@shsjames.sk
SUMMARY:WC boulder\, Praha\, CZE
DESCRIPTION:
URL:https://shsjames.sk/akcia/wc-boulder-praha-cze-2/
CATEGORIES:Športové lezenie - Svetový pohár
END:VEVENT
BEGIN:VEVENT
DTSTART;VALUE=DATE:20250606
DTEND;VALUE=DATE:20250607
DTSTAMP:20260426T055201
CREATED:20250219T202606Z
LAST-MODIFIED:20251103T072825Z
UID:126513-1749168000-1749254399@shsjames.sk
SUMMARY:EYC speed\, Mezzolombardo\, ITA
DESCRIPTION:
URL:https://shsjames.sk/akcia/eyc-speed-mezzolombardo-ita/
CATEGORIES:Športové lezenie - Európsky pohár
END:VEVENT
BEGIN:VEVENT
DTSTART;VALUE=DATE:20250601
DTEND;VALUE=DATE:20250602
DTSTAMP:20260426T055201
CREATED:20250219T202257Z
LAST-MODIFIED:20260426T032415Z
UID:126503-1748736000-1748822399@shsjames.sk
SUMMARY:M SR detí lead\, LA SKALA Žilina
DESCRIPTION:
URL:https://shsjames.sk/akcia/m-sr-d-lead-la-skala-zilina/
CATEGORIES:Športové lezenie - MSR, SP
END:VEVENT
BEGIN:VEVENT
DTSTART;VALUE=DATE:20250531
DTEND;VALUE=DATE:20250601
DTSTAMP:20260426T055201
CREATED:20250219T202256Z
LAST-MODIFIED:20260426T032414Z
UID:126502-1748649600-1748735999@shsjames.sk
SUMMARY:SPDaM lead A\, LA SKALA Žilina
DESCRIPTION:
URL:https://shsjames.sk/akcia/spdam-lead-a-la-skala-zilina/
CATEGORIES:Športové lezenie - MSR, SP
END:VEVENT
BEGIN:VEVENT
DTSTART;VALUE=DATE:20250524
DTEND;VALUE=DATE:20250526
DTSTAMP:20260426T055201
CREATED:20250219T202606Z
LAST-MODIFIED:20251103T072825Z
UID:126512-1748044800-1748217599@shsjames.sk
SUMMARY:EYC boulder\, Molde\, NOR
DESCRIPTION:
URL:https://shsjames.sk/akcia/eyc-boulder-molde-nor/
CATEGORIES:Športové lezenie - Európsky pohár
END:VEVENT
BEGIN:VEVENT
DTSTART;VALUE=DATE:20250524
DTEND;VALUE=DATE:20250525
DTSTAMP:20260426T055201
CREATED:20250219T202256Z
LAST-MODIFIED:20260426T032414Z
UID:126501-1748044800-1748131199@shsjames.sk
SUMMARY:M SR detí boulder\, LA SKALA Žilina
DESCRIPTION:
URL:https://shsjames.sk/akcia/m-sr-d-boulder-la-skala-zilina/
CATEGORIES:Športové lezenie - MSR, SP
END:VEVENT
BEGIN:VEVENT
DTSTART;VALUE=DATE:20250523
DTEND;VALUE=DATE:20250527
DTSTAMP:20260426T055201
CREATED:20250219T202159Z
LAST-MODIFIED:20250925T132255Z
UID:126493-1747958400-1748303999@shsjames.sk
SUMMARY:WC boulder\, Salt Lake City\, USA
DESCRIPTION:
URL:https://shsjames.sk/akcia/wc-boulder-salt-lake-city-usa/
CATEGORIES:Športové lezenie - Svetový pohár
END:VEVENT
END:VCALENDAR