BEGIN:VCALENDAR
VERSION:2.0
PRODID:-//SHS JAMES - ECPv6.15.20//NONSGML v1.0//EN
CALSCALE:GREGORIAN
METHOD:PUBLISH
X-WR-CALNAME:SHS JAMES
X-ORIGINAL-URL:https://shsjames.sk
X-WR-CALDESC:Udalosti pre SHS JAMES
REFRESH-INTERVAL;VALUE=DURATION:PT1H
X-Robots-Tag:noindex
X-PUBLISHED-TTL:PT1H
BEGIN:VTIMEZONE
TZID:UTC
BEGIN:STANDARD
TZOFFSETFROM:+0000
TZOFFSETTO:+0000
TZNAME:UTC
DTSTART:20240101T000000
END:STANDARD
END:VTIMEZONE
BEGIN:VEVENT
DTSTART;VALUE=DATE:20251122
DTEND;VALUE=DATE:20251123
DTSTAMP:20260426T003442
CREATED:20251111T143001Z
LAST-MODIFIED:20260425T223134Z
UID:191961-1763769600-1763855999@shsjames.sk
SUMMARY:UPJŠ Košice boulder C
DESCRIPTION:
URL:https://shsjames.sk/akcia/upjs-kosice-boulder-c/
CATEGORIES:Športové lezenie - SP B a C, ostatné preteky
END:VEVENT
BEGIN:VEVENT
DTSTART;VALUE=DATE:20251117
DTEND;VALUE=DATE:20251118
DTSTAMP:20260426T003442
CREATED:20240101T000538Z
LAST-MODIFIED:20260425T220732Z
UID:22408-1763337600-1763423999@shsjames.sk
SUMMARY:Deň boja za slobodu a demokraciu
DESCRIPTION:Pamätný deňPamätné dni skryjete v sekcii Nastavenia Kalendára Google > Sviatky na Slovensku
URL:https://shsjames.sk/akcia/den-boja-za-slobodu-a-demokraciu/
CATEGORIES:Sviatky na Slovensku
END:VEVENT
BEGIN:VEVENT
DTSTART;VALUE=DATE:20251115
DTEND;VALUE=DATE:20251116
DTSTAMP:20260426T003442
CREATED:20251112T143225Z
LAST-MODIFIED:20260425T223134Z
UID:192175-1763164800-1763251199@shsjames.sk
SUMMARY:Spotlight Boulder Jam\, Spot Bratislava
DESCRIPTION:
URL:https://shsjames.sk/akcia/spotlight-boulder-jam-spot-bratislava/
CATEGORIES:Športové lezenie - SP B a C, ostatné preteky
END:VEVENT
BEGIN:VEVENT
DTSTART;VALUE=DATE:20251115
DTEND;VALUE=DATE:20251116
DTSTAMP:20260426T003442
CREATED:20251013T133132Z
LAST-MODIFIED:20260425T223134Z
UID:185486-1763164800-1763251199@shsjames.sk
SUMMARY:Detská lezecká Singingrock liga Trenčín
DESCRIPTION:
URL:https://shsjames.sk/akcia/detska-lezecka-singingrock-liga-trencin-2/
CATEGORIES:Športové lezenie - SP B a C, ostatné preteky
END:VEVENT
BEGIN:VEVENT
DTSTART;VALUE=DATE:20251102
DTEND;VALUE=DATE:20251103
DTSTAMP:20260426T003442
CREATED:20250529T172459Z
LAST-MODIFIED:20260425T222707Z
UID:151163-1762041600-1762127999@shsjames.sk
SUMMARY:EYC lead Francúzsko
DESCRIPTION:
URL:https://shsjames.sk/akcia/eyc-lead-francuzsko/
CATEGORIES:Športové lezenie - Európsky pohár mládeže
END:VEVENT
BEGIN:VEVENT
DTSTART;VALUE=DATE:20251101
DTEND;VALUE=DATE:20251102
DTSTAMP:20260426T003442
CREATED:20250529T172508Z
LAST-MODIFIED:20251103T072826Z
UID:151169-1761955200-1762041599@shsjames.sk
SUMMARY:EC lead Francúzsko
DESCRIPTION:
URL:https://shsjames.sk/akcia/ec-lead-francuzsko/
CATEGORIES:Športové lezenie - Európsky pohár
END:VEVENT
BEGIN:VEVENT
DTSTART;VALUE=DATE:20251101
DTEND;VALUE=DATE:20251102
DTSTAMP:20260426T003442
CREATED:20240101T000538Z
LAST-MODIFIED:20260425T220732Z
UID:22407-1761955200-1762041599@shsjames.sk
SUMMARY:Sviatok vŝetkých svätých
DESCRIPTION:Štátny sviatok
URL:https://shsjames.sk/akcia/sviatok-vsetkych-svatych/
CATEGORIES:Sviatky na Slovensku
END:VEVENT
BEGIN:VEVENT
DTSTART;VALUE=DATE:20251026
DTEND;VALUE=DATE:20251027
DTSTAMP:20260426T003442
CREATED:20251013T133132Z
LAST-MODIFIED:20260425T223134Z
UID:185485-1761436800-1761523199@shsjames.sk
SUMMARY:Gravity Boulder Open Prešov
DESCRIPTION:
URL:https://shsjames.sk/akcia/gravity-boulder-open-presov/
CATEGORIES:Športové lezenie - SP B a C, ostatné preteky
END:VEVENT
BEGIN:VEVENT
DTSTART;VALUE=DATE:20251026
DTEND;VALUE=DATE:20251027
DTSTAMP:20260426T003442
CREATED:20250529T172508Z
LAST-MODIFIED:20251103T072826Z
UID:151168-1761436800-1761523199@shsjames.sk
SUMMARY:EC speed Francúzsko
DESCRIPTION:
URL:https://shsjames.sk/akcia/ec-speed-francuzsko/
CATEGORIES:Športové lezenie - Európsky pohár
END:VEVENT
BEGIN:VEVENT
DTSTART;VALUE=DATE:20251025
DTEND;VALUE=DATE:20251026
DTSTAMP:20260426T003442
CREATED:20250529T172459Z
LAST-MODIFIED:20260425T222707Z
UID:151162-1761350400-1761436799@shsjames.sk
SUMMARY:EYC speed Francúzsko
DESCRIPTION:
URL:https://shsjames.sk/akcia/eyc-speed-francuzsko/
CATEGORIES:Športové lezenie - Európsky pohár mládeže
END:VEVENT
BEGIN:VEVENT
DTSTART;VALUE=DATE:20251025
DTEND;VALUE=DATE:20251026
DTSTAMP:20260426T003442
CREATED:20250529T172249Z
LAST-MODIFIED:20260425T222404Z
UID:151153-1761350400-1761436799@shsjames.sk
SUMMARY:SPD lead Rozlomity Košice
DESCRIPTION:
URL:https://shsjames.sk/akcia/spd-lead-rozlomity-kosice/
CATEGORIES:Športové lezenie - MSR, SP
END:VEVENT
BEGIN:VEVENT
DTSTART;VALUE=DATE:20251019
DTEND;VALUE=DATE:20251020
DTSTAMP:20260426T003442
CREATED:20250529T172901Z
LAST-MODIFIED:20260425T223134Z
UID:151180-1760832000-1760918399@shsjames.sk
SUMMARY:SPD boulder T2 Košice
DESCRIPTION:
URL:https://shsjames.sk/akcia/spd-boulder-t2-kosice/
CATEGORIES:Športové lezenie - SP B a C, ostatné preteky
END:VEVENT
BEGIN:VEVENT
DTSTART;VALUE=DATE:20251018
DTEND;VALUE=DATE:20251019
DTSTAMP:20260426T003442
CREATED:20251013T133132Z
LAST-MODIFIED:20260425T223134Z
UID:185484-1760745600-1760831999@shsjames.sk
SUMMARY:Detská lezecká Singingrock liga Trenčín
DESCRIPTION:
URL:https://shsjames.sk/akcia/detska-lezecka-singingrock-liga-trencin/
CATEGORIES:Športové lezenie - SP B a C, ostatné preteky
END:VEVENT
BEGIN:VEVENT
DTSTART;VALUE=DATE:20251018
DTEND;VALUE=DATE:20251019
DTSTAMP:20260426T003442
CREATED:20250529T172900Z
LAST-MODIFIED:20260425T223134Z
UID:151179-1760745600-1760831999@shsjames.sk
SUMMARY:SPDaM boulder T2 Košice
DESCRIPTION:
URL:https://shsjames.sk/akcia/spdam-boulder-t2-kosice/
CATEGORIES:Športové lezenie - SP B a C, ostatné preteky
END:VEVENT
BEGIN:VEVENT
DTSTART;VALUE=DATE:20251005
DTEND;VALUE=DATE:20251006
DTSTAMP:20260426T003442
CREATED:20250529T172249Z
LAST-MODIFIED:20260425T222403Z
UID:151151-1759622400-1759708799@shsjames.sk
SUMMARY:M SR speed LA SKALA Žilina
DESCRIPTION:
URL:https://shsjames.sk/akcia/m-sr-speed-la-skala-zilina/
CATEGORIES:Športové lezenie - MSR, SP
END:VEVENT
BEGIN:VEVENT
DTSTART;VALUE=DATE:20251005
DTEND;VALUE=DATE:20251006
DTSTAMP:20260426T003442
CREATED:20250529T172249Z
LAST-MODIFIED:20260425T222404Z
UID:151152-1759622400-1759708799@shsjames.sk
SUMMARY:M SR detí LA SKALA Žilina
DESCRIPTION:
URL:https://shsjames.sk/akcia/m-sr-deti-la-skala-zilina/
CATEGORIES:Športové lezenie - MSR, SP
END:VEVENT
BEGIN:VEVENT
DTSTART;VALUE=DATE:20251004
DTEND;VALUE=DATE:20251005
DTSTAMP:20260426T003442
CREATED:20250529T172249Z
LAST-MODIFIED:20260425T222403Z
UID:151150-1759536000-1759622399@shsjames.sk
SUMMARY:M SR lead LA SKALA Žilina
DESCRIPTION:
URL:https://shsjames.sk/akcia/m-sr-lead-la-skala-zilina-2/
CATEGORIES:Športové lezenie - MSR, SP
END:VEVENT
BEGIN:VEVENT
DTSTART;VALUE=DATE:20250927
DTEND;VALUE=DATE:20250928
DTSTAMP:20260426T003442
CREATED:20250529T163024Z
LAST-MODIFIED:20260425T223134Z
UID:151137-1758931200-1759017599@shsjames.sk
SUMMARY:SPDaM boulder Lozilla LM
DESCRIPTION:
URL:https://shsjames.sk/akcia/spdam-boulder-lozilla-lm/
CATEGORIES:Športové lezenie - SP B a C, ostatné preteky
END:VEVENT
BEGIN:VEVENT
DTSTART;VALUE=DATE:20250921
DTEND;VALUE=DATE:20250922
DTSTAMP:20260426T003442
CREATED:20250529T172249Z
LAST-MODIFIED:20260425T222403Z
UID:151148-1758412800-1758499199@shsjames.sk
SUMMARY:SPDaM speed LA SKALA Žilina
DESCRIPTION:
URL:https://shsjames.sk/akcia/spdam-speed-la-skala-zilina/
CATEGORIES:Športové lezenie - MSR, SP
END:VEVENT
BEGIN:VEVENT
DTSTART;VALUE=DATE:20250921
DTEND;VALUE=DATE:20250922
DTSTAMP:20260426T003442
CREATED:20250529T172249Z
LAST-MODIFIED:20260425T222403Z
UID:151149-1758412800-1758499199@shsjames.sk
SUMMARY:SPD speed LA SKALA Žilina
DESCRIPTION:
URL:https://shsjames.sk/akcia/spd-speed-la-skala-zilina/
CATEGORIES:Športové lezenie - MSR, SP
END:VEVENT
BEGIN:VEVENT
DTSTART;VALUE=DATE:20250920
DTEND;VALUE=DATE:20250929
DTSTAMP:20260426T003442
CREATED:20250529T172148Z
LAST-MODIFIED:20250925T132255Z
UID:151147-1758326400-1759103999@shsjames.sk
SUMMARY:World Championship lead\, boulder\, speed\, para\, Seoul (KOR)
DESCRIPTION:
URL:https://shsjames.sk/akcia/world-championship-lead-boulder-speed-para-seoul-kor/
CATEGORIES:Športové lezenie - Svetový pohár
END:VEVENT
BEGIN:VEVENT
DTSTART;VALUE=DATE:20250920
DTEND;VALUE=DATE:20250921
DTSTAMP:20260426T003442
CREATED:20250701T192859Z
LAST-MODIFIED:20260425T223134Z
UID:159450-1758326400-1758412799@shsjames.sk
SUMMARY:SPDaM boulder LA SKALA
DESCRIPTION:
URL:https://shsjames.sk/akcia/spdam-boulder-la-skala/
CATEGORIES:Športové lezenie - SP B a C, ostatné preteky
END:VEVENT
BEGIN:VEVENT
DTSTART;VALUE=DATE:20250920
DTEND;VALUE=DATE:20250921
DTSTAMP:20260426T003442
CREATED:20250529T163024Z
LAST-MODIFIED:20260425T223134Z
UID:151138-1758326400-1758412799@shsjames.sk
SUMMARY:SPD lead LA SKALA Žilina
DESCRIPTION:
URL:https://shsjames.sk/akcia/spd-lead-la-skala-zilina/
CATEGORIES:Športové lezenie - SP B a C, ostatné preteky
END:VEVENT
BEGIN:VEVENT
DTSTART;VALUE=DATE:20250915
DTEND;VALUE=DATE:20250916
DTSTAMP:20260426T003442
CREATED:20240101T000538Z
LAST-MODIFIED:20260425T220732Z
UID:22406-1757894400-1757980799@shsjames.sk
SUMMARY:Sviatok sedembolestnej Panny Márie
DESCRIPTION:Štátny sviatok
URL:https://shsjames.sk/akcia/sviatok-sedembolestnej-panny-marie/
CATEGORIES:Sviatky na Slovensku
END:VEVENT
BEGIN:VEVENT
DTSTART;VALUE=DATE:20250913
DTEND;VALUE=DATE:20250914
DTSTAMP:20260426T003442
CREATED:20250825T143200Z
LAST-MODIFIED:20260425T223133Z
UID:173288-1757721600-1757807999@shsjames.sk
SUMMARY:SPD lead kat. C Banská Bystrica
DESCRIPTION:
URL:https://shsjames.sk/akcia/spd-lead-kat-c-banska-bystrica/
CATEGORIES:Športové lezenie - SP B a C, ostatné preteky
END:VEVENT
BEGIN:VEVENT
DTSTART;VALUE=DATE:20250913
DTEND;VALUE=DATE:20250914
DTSTAMP:20260426T003442
CREATED:20250529T162439Z
LAST-MODIFIED:20260425T222707Z
UID:151124-1757721600-1757807999@shsjames.sk
SUMMARY:EYC lead Imst (A)
DESCRIPTION:
URL:https://shsjames.sk/akcia/eyc-lead-imst-a/
CATEGORIES:Športové lezenie - Európsky pohár mládeže
END:VEVENT
BEGIN:VEVENT
DTSTART;VALUE=DATE:20250905
DTEND;VALUE=DATE:20250906
DTSTAMP:20260426T003442
CREATED:20250529T172148Z
LAST-MODIFIED:20250925T132255Z
UID:151146-1757030400-1757116799@shsjames.sk
SUMMARY:WC lead\, Koper (SLO)
DESCRIPTION:
URL:https://shsjames.sk/akcia/wc-lead-koper-slo-2/
CATEGORIES:Športové lezenie - Svetový pohár
END:VEVENT
BEGIN:VEVENT
DTSTART;VALUE=DATE:20250901
DTEND;VALUE=DATE:20250902
DTSTAMP:20260426T003442
CREATED:20240101T000537Z
LAST-MODIFIED:20260425T220732Z
UID:22405-1756684800-1756771199@shsjames.sk
SUMMARY:Deň Ústavy Slovenskej republiky
DESCRIPTION:Pamätný deňPamätné dni skryjete v sekcii Nastavenia Kalendára Google > Sviatky na Slovensku
URL:https://shsjames.sk/akcia/den-ustavy-slovenskej-republiky/
CATEGORIES:Sviatky na Slovensku
END:VEVENT
BEGIN:VEVENT
DTSTART;VALUE=DATE:20250829
DTEND;VALUE=DATE:20250830
DTSTAMP:20260426T003442
CREATED:20240101T000537Z
LAST-MODIFIED:20260425T220732Z
UID:22404-1756425600-1756511999@shsjames.sk
SUMMARY:Výročie SNP
DESCRIPTION:Štátny sviatok
URL:https://shsjames.sk/akcia/vyrocie-snp/
CATEGORIES:Sviatky na Slovensku
END:VEVENT
BEGIN:VEVENT
DTSTART;VALUE=DATE:20250828
DTEND;VALUE=DATE:20250901
DTSTAMP:20260426T003442
CREATED:20250529T162439Z
LAST-MODIFIED:20260425T222707Z
UID:151123-1756339200-1756684799@shsjames.sk
SUMMARY:Youth Europe Championship speed a lead Žilina (SK)
DESCRIPTION:
URL:https://shsjames.sk/akcia/youth-europe-championship-speed-a-lead-zilina-sk/
CATEGORIES:Športové lezenie - Európsky pohár mládeže
END:VEVENT
END:VCALENDAR