BEGIN:VCALENDAR
VERSION:2.0
PRODID:-//SHS JAMES - ECPv6.15.20//NONSGML v1.0//EN
CALSCALE:GREGORIAN
METHOD:PUBLISH
X-ORIGINAL-URL:https://shsjames.sk
X-WR-CALDESC:Udalosti pre SHS JAMES
REFRESH-INTERVAL;VALUE=DURATION:PT1H
X-Robots-Tag:noindex
X-PUBLISHED-TTL:PT1H
BEGIN:VTIMEZONE
TZID:UTC
BEGIN:STANDARD
TZOFFSETFROM:+0000
TZOFFSETTO:+0000
TZNAME:UTC
DTSTART:20250101T000000
END:STANDARD
END:VTIMEZONE
BEGIN:VEVENT
DTSTART;VALUE=DATE:20260901
DTEND;VALUE=DATE:20260902
DTSTAMP:20260426T025714
CREATED:20240325T190548Z
LAST-MODIFIED:20260426T000625Z
UID:43847-1788220800-1788307199@shsjames.sk
SUMMARY:Deň Ústavy Slovenskej republiky
DESCRIPTION:Pamätný deňPamätné dni skryjete v sekcii Nastavenia Kalendára Google > Sviatky na Slovensku
URL:https://shsjames.sk/akcia/den-ustavy-slovenskej-republiky-8/
CATEGORIES:Sviatky na Slovensku
END:VEVENT
BEGIN:VEVENT
DTSTART;VALUE=DATE:20260915
DTEND;VALUE=DATE:20260916
DTSTAMP:20260426T025714
CREATED:20240325T190548Z
LAST-MODIFIED:20260426T000625Z
UID:43848-1789430400-1789516799@shsjames.sk
SUMMARY:Sviatok sedembolestnej Panny Márie
DESCRIPTION:Pamätný deňPamätné dni skryjete v sekcii Nastavenia Kalendára Google > Sviatky na Slovensku
URL:https://shsjames.sk/akcia/sviatok-sedembolestnej-panny-marie-8/
CATEGORIES:Sviatky na Slovensku
END:VEVENT
BEGIN:VEVENT
DTSTART;VALUE=DATE:20261101
DTEND;VALUE=DATE:20261102
DTSTAMP:20260426T025714
CREATED:20240325T190548Z
LAST-MODIFIED:20260426T000625Z
UID:43849-1793491200-1793577599@shsjames.sk
SUMMARY:Sviatok vŝetkých svätých
DESCRIPTION:Štátny sviatok
URL:https://shsjames.sk/akcia/sviatok-vsetkych-svatych-8/
CATEGORIES:Sviatky na Slovensku
END:VEVENT
BEGIN:VEVENT
DTSTART;VALUE=DATE:20261117
DTEND;VALUE=DATE:20261118
DTSTAMP:20260426T025714
CREATED:20240325T190548Z
LAST-MODIFIED:20260426T000625Z
UID:43850-1794873600-1794959999@shsjames.sk
SUMMARY:Deň boja za slobodu a demokraciu
DESCRIPTION:Pamätný deňPamätné dni skryjete v sekcii Nastavenia Kalendára Google > Sviatky na Slovensku
URL:https://shsjames.sk/akcia/den-boja-za-slobodu-a-demokraciu-8/
CATEGORIES:Sviatky na Slovensku
END:VEVENT
BEGIN:VEVENT
DTSTART;VALUE=DATE:20261224
DTEND;VALUE=DATE:20261225
DTSTAMP:20260426T025714
CREATED:20240325T190548Z
LAST-MODIFIED:20260426T000625Z
UID:43851-1798070400-1798156799@shsjames.sk
SUMMARY:Ŝtedrý deň
DESCRIPTION:Štátny sviatok
URL:https://shsjames.sk/akcia/stedry-den-8/
CATEGORIES:Sviatky na Slovensku
END:VEVENT
BEGIN:VEVENT
DTSTART;VALUE=DATE:20261225
DTEND;VALUE=DATE:20261226
DTSTAMP:20260426T025714
CREATED:20240325T190548Z
LAST-MODIFIED:20260426T000625Z
UID:43852-1798156800-1798243199@shsjames.sk
SUMMARY:Prvý sviatok vianočný
DESCRIPTION:Štátny sviatok
URL:https://shsjames.sk/akcia/prvy-sviatok-vianocny-8/
CATEGORIES:Sviatky na Slovensku
END:VEVENT
BEGIN:VEVENT
DTSTART;VALUE=DATE:20261226
DTEND;VALUE=DATE:20261227
DTSTAMP:20260426T025714
CREATED:20240325T190548Z
LAST-MODIFIED:20260426T000625Z
UID:43853-1798243200-1798329599@shsjames.sk
SUMMARY:Druhý sviatok vianočný
DESCRIPTION:Štátny sviatok
URL:https://shsjames.sk/akcia/druhy-sviatok-vianocny-8/
CATEGORIES:Sviatky na Slovensku
END:VEVENT
BEGIN:VEVENT
DTSTART;VALUE=DATE:20270101
DTEND;VALUE=DATE:20270102
DTSTAMP:20260426T025714
CREATED:20240325T190548Z
LAST-MODIFIED:20260426T000625Z
UID:43854-1798761600-1798847999@shsjames.sk
SUMMARY:Deň vzniku Slovenskej republiky
DESCRIPTION:Štátny sviatok
URL:https://shsjames.sk/akcia/den-vzniku-slovenskej-republiky-9/
CATEGORIES:Sviatky na Slovensku
END:VEVENT
BEGIN:VEVENT
DTSTART;VALUE=DATE:20270106
DTEND;VALUE=DATE:20270107
DTSTAMP:20260426T025714
CREATED:20240325T190549Z
LAST-MODIFIED:20260426T000625Z
UID:43855-1799193600-1799279999@shsjames.sk
SUMMARY:Zjavenie Pána
DESCRIPTION:Štátny sviatok
URL:https://shsjames.sk/akcia/zjavenie-pana-9/
CATEGORIES:Sviatky na Slovensku
END:VEVENT
BEGIN:VEVENT
DTSTART;VALUE=DATE:20270326
DTEND;VALUE=DATE:20270327
DTSTAMP:20260426T025714
CREATED:20240325T190549Z
LAST-MODIFIED:20260426T000625Z
UID:43856-1806019200-1806105599@shsjames.sk
SUMMARY:Veľký piatok
DESCRIPTION:Štátny sviatok
URL:https://shsjames.sk/akcia/velky-piatok-9/
CATEGORIES:Sviatky na Slovensku
END:VEVENT
BEGIN:VEVENT
DTSTART;VALUE=DATE:20270328
DTEND;VALUE=DATE:20270329
DTSTAMP:20260426T025714
CREATED:20240325T190549Z
LAST-MODIFIED:20260426T000625Z
UID:43857-1806192000-1806278399@shsjames.sk
SUMMARY:Veľkonočná nedeľa
DESCRIPTION:Pamätný deňPamätné dni skryjete v sekcii Nastavenia Kalendára Google > Sviatky na Slovensku
URL:https://shsjames.sk/akcia/velkonocna-nedela-9/
CATEGORIES:Sviatky na Slovensku
END:VEVENT
BEGIN:VEVENT
DTSTART;VALUE=DATE:20270329
DTEND;VALUE=DATE:20270330
DTSTAMP:20260426T025714
CREATED:20240325T190549Z
LAST-MODIFIED:20260426T000625Z
UID:43858-1806278400-1806364799@shsjames.sk
SUMMARY:Veľkonočný pondelok
DESCRIPTION:Štátny sviatok
URL:https://shsjames.sk/akcia/velkonocny-pondelok-9/
CATEGORIES:Sviatky na Slovensku
END:VEVENT
BEGIN:VEVENT
DTSTART;VALUE=DATE:20270501
DTEND;VALUE=DATE:20270502
DTSTAMP:20260426T025714
CREATED:20240325T190549Z
LAST-MODIFIED:20260426T000625Z
UID:43859-1809129600-1809215999@shsjames.sk
SUMMARY:Sviatok práce
DESCRIPTION:Štátny sviatok
URL:https://shsjames.sk/akcia/sviatok-prace-9/
CATEGORIES:Sviatky na Slovensku
END:VEVENT
BEGIN:VEVENT
DTSTART;VALUE=DATE:20270508
DTEND;VALUE=DATE:20270509
DTSTAMP:20260426T025714
CREATED:20240325T190549Z
LAST-MODIFIED:20260426T000625Z
UID:43860-1809734400-1809820799@shsjames.sk
SUMMARY:Deň víťazstva nad faŝizmom
DESCRIPTION:Pamätný deňPamätné dni skryjete v sekcii Nastavenia Kalendára Google > Sviatky na Slovensku
URL:https://shsjames.sk/akcia/den-vitazstva-nad-fasizmom-9/
CATEGORIES:Sviatky na Slovensku
END:VEVENT
BEGIN:VEVENT
DTSTART;VALUE=DATE:20270705
DTEND;VALUE=DATE:20270706
DTSTAMP:20260426T025714
CREATED:20240325T190549Z
LAST-MODIFIED:20260426T000625Z
UID:43861-1814745600-1814831999@shsjames.sk
SUMMARY:Sviatok svätého Cyrila a Metoda
DESCRIPTION:Štátny sviatok
URL:https://shsjames.sk/akcia/sviatok-svateho-cyrila-a-metoda-9/
CATEGORIES:Sviatky na Slovensku
END:VEVENT
BEGIN:VEVENT
DTSTART;VALUE=DATE:20270829
DTEND;VALUE=DATE:20270830
DTSTAMP:20260426T025714
CREATED:20240325T190549Z
LAST-MODIFIED:20260426T000625Z
UID:43862-1819497600-1819583999@shsjames.sk
SUMMARY:Výročie SNP
DESCRIPTION:Štátny sviatok
URL:https://shsjames.sk/akcia/vyrocie-snp-9/
CATEGORIES:Sviatky na Slovensku
END:VEVENT
BEGIN:VEVENT
DTSTART;VALUE=DATE:20270901
DTEND;VALUE=DATE:20270902
DTSTAMP:20260426T025715
CREATED:20240325T190549Z
LAST-MODIFIED:20260426T000625Z
UID:43863-1819756800-1819843199@shsjames.sk
SUMMARY:Deň Ústavy Slovenskej republiky
DESCRIPTION:Pamätný deňPamätné dni skryjete v sekcii Nastavenia Kalendára Google > Sviatky na Slovensku
URL:https://shsjames.sk/akcia/den-ustavy-slovenskej-republiky-9/
CATEGORIES:Sviatky na Slovensku
END:VEVENT
BEGIN:VEVENT
DTSTART;VALUE=DATE:20270915
DTEND;VALUE=DATE:20270916
DTSTAMP:20260426T025715
CREATED:20240325T190549Z
LAST-MODIFIED:20260426T000625Z
UID:43864-1820966400-1821052799@shsjames.sk
SUMMARY:Sviatok sedembolestnej Panny Márie
DESCRIPTION:Pamätný deňPamätné dni skryjete v sekcii Nastavenia Kalendára Google > Sviatky na Slovensku
URL:https://shsjames.sk/akcia/sviatok-sedembolestnej-panny-marie-9/
CATEGORIES:Sviatky na Slovensku
END:VEVENT
BEGIN:VEVENT
DTSTART;VALUE=DATE:20271101
DTEND;VALUE=DATE:20271102
DTSTAMP:20260426T025715
CREATED:20240325T190549Z
LAST-MODIFIED:20260426T000625Z
UID:43865-1825027200-1825113599@shsjames.sk
SUMMARY:Sviatok vŝetkých svätých
DESCRIPTION:Štátny sviatok
URL:https://shsjames.sk/akcia/sviatok-vsetkych-svatych-9/
CATEGORIES:Sviatky na Slovensku
END:VEVENT
BEGIN:VEVENT
DTSTART;VALUE=DATE:20271117
DTEND;VALUE=DATE:20271118
DTSTAMP:20260426T025715
CREATED:20240325T190549Z
LAST-MODIFIED:20260426T000625Z
UID:43866-1826409600-1826495999@shsjames.sk
SUMMARY:Deň boja za slobodu a demokraciu
DESCRIPTION:Pamätný deňPamätné dni skryjete v sekcii Nastavenia Kalendára Google > Sviatky na Slovensku
URL:https://shsjames.sk/akcia/den-boja-za-slobodu-a-demokraciu-9/
CATEGORIES:Sviatky na Slovensku
END:VEVENT
BEGIN:VEVENT
DTSTART;VALUE=DATE:20271224
DTEND;VALUE=DATE:20271225
DTSTAMP:20260426T025715
CREATED:20240325T190549Z
LAST-MODIFIED:20260426T000626Z
UID:43867-1829606400-1829692799@shsjames.sk
SUMMARY:Ŝtedrý deň
DESCRIPTION:Štátny sviatok
URL:https://shsjames.sk/akcia/stedry-den-9/
CATEGORIES:Sviatky na Slovensku
END:VEVENT
BEGIN:VEVENT
DTSTART;VALUE=DATE:20271225
DTEND;VALUE=DATE:20271226
DTSTAMP:20260426T025715
CREATED:20240325T190550Z
LAST-MODIFIED:20260426T000626Z
UID:43868-1829692800-1829779199@shsjames.sk
SUMMARY:Prvý sviatok vianočný
DESCRIPTION:Štátny sviatok
URL:https://shsjames.sk/akcia/prvy-sviatok-vianocny-9/
CATEGORIES:Sviatky na Slovensku
END:VEVENT
BEGIN:VEVENT
DTSTART;VALUE=DATE:20271226
DTEND;VALUE=DATE:20271227
DTSTAMP:20260426T025715
CREATED:20240325T190550Z
LAST-MODIFIED:20260426T000626Z
UID:43869-1829779200-1829865599@shsjames.sk
SUMMARY:Druhý sviatok vianočný
DESCRIPTION:Štátny sviatok
URL:https://shsjames.sk/akcia/druhy-sviatok-vianocny-9/
CATEGORIES:Sviatky na Slovensku
END:VEVENT
BEGIN:VEVENT
DTSTART;VALUE=DATE:20280101
DTEND;VALUE=DATE:20280102
DTSTAMP:20260426T025715
CREATED:20240325T190550Z
LAST-MODIFIED:20260426T000626Z
UID:43870-1830297600-1830383999@shsjames.sk
SUMMARY:Deň vzniku Slovenskej republiky
DESCRIPTION:Štátny sviatok
URL:https://shsjames.sk/akcia/den-vzniku-slovenskej-republiky-10/
CATEGORIES:Sviatky na Slovensku
END:VEVENT
BEGIN:VEVENT
DTSTART;VALUE=DATE:20280106
DTEND;VALUE=DATE:20280107
DTSTAMP:20260426T025715
CREATED:20240325T190550Z
LAST-MODIFIED:20260426T000626Z
UID:43871-1830729600-1830815999@shsjames.sk
SUMMARY:Zjavenie Pána
DESCRIPTION:Štátny sviatok
URL:https://shsjames.sk/akcia/zjavenie-pana-10/
CATEGORIES:Sviatky na Slovensku
END:VEVENT
BEGIN:VEVENT
DTSTART;VALUE=DATE:20280414
DTEND;VALUE=DATE:20280415
DTSTAMP:20260426T025715
CREATED:20240325T190550Z
LAST-MODIFIED:20260426T000626Z
UID:43872-1839283200-1839369599@shsjames.sk
SUMMARY:Veľký piatok
DESCRIPTION:Štátny sviatok
URL:https://shsjames.sk/akcia/velky-piatok-10/
CATEGORIES:Sviatky na Slovensku
END:VEVENT
BEGIN:VEVENT
DTSTART;VALUE=DATE:20280416
DTEND;VALUE=DATE:20280417
DTSTAMP:20260426T025715
CREATED:20240325T190550Z
LAST-MODIFIED:20260426T000626Z
UID:43873-1839456000-1839542399@shsjames.sk
SUMMARY:Veľkonočná nedeľa
DESCRIPTION:Pamätný deňPamätné dni skryjete v sekcii Nastavenia Kalendára Google > Sviatky na Slovensku
URL:https://shsjames.sk/akcia/velkonocna-nedela-10/
CATEGORIES:Sviatky na Slovensku
END:VEVENT
BEGIN:VEVENT
DTSTART;VALUE=DATE:20280417
DTEND;VALUE=DATE:20280418
DTSTAMP:20260426T025715
CREATED:20240325T190550Z
LAST-MODIFIED:20260426T000626Z
UID:43874-1839542400-1839628799@shsjames.sk
SUMMARY:Veľkonočný pondelok
DESCRIPTION:Štátny sviatok
URL:https://shsjames.sk/akcia/velkonocny-pondelok-10/
CATEGORIES:Sviatky na Slovensku
END:VEVENT
BEGIN:VEVENT
DTSTART;VALUE=DATE:20280501
DTEND;VALUE=DATE:20280502
DTSTAMP:20260426T025715
CREATED:20240325T190550Z
LAST-MODIFIED:20260426T000626Z
UID:43875-1840752000-1840838399@shsjames.sk
SUMMARY:Sviatok práce
DESCRIPTION:Štátny sviatok
URL:https://shsjames.sk/akcia/sviatok-prace-10/
CATEGORIES:Sviatky na Slovensku
END:VEVENT
BEGIN:VEVENT
DTSTART;VALUE=DATE:20280508
DTEND;VALUE=DATE:20280509
DTSTAMP:20260426T025715
CREATED:20240325T190550Z
LAST-MODIFIED:20260426T000626Z
UID:43876-1841356800-1841443199@shsjames.sk
SUMMARY:Deň víťazstva nad faŝizmom
DESCRIPTION:Pamätný deňPamätné dni skryjete v sekcii Nastavenia Kalendára Google > Sviatky na Slovensku
URL:https://shsjames.sk/akcia/den-vitazstva-nad-fasizmom-10/
CATEGORIES:Sviatky na Slovensku
END:VEVENT
END:VCALENDAR