BEGIN:VCALENDAR
VERSION:2.0
PRODID:-//SHS JAMES - ECPv6.15.20//NONSGML v1.0//EN
CALSCALE:GREGORIAN
METHOD:PUBLISH
X-ORIGINAL-URL:https://shsjames.sk
X-WR-CALDESC:Udalosti pre SHS JAMES
REFRESH-INTERVAL;VALUE=DURATION:PT1H
X-Robots-Tag:noindex
X-PUBLISHED-TTL:PT1H
BEGIN:VTIMEZONE
TZID:UTC
BEGIN:STANDARD
TZOFFSETFROM:+0000
TZOFFSETTO:+0000
TZNAME:UTC
DTSTART:20240101T000000
END:STANDARD
END:VTIMEZONE
BEGIN:VEVENT
DTSTART;VALUE=DATE:20250615
DTEND;VALUE=DATE:20250616
DTSTAMP:20260426T061332
CREATED:20250529T163024Z
LAST-MODIFIED:20260426T033247Z
UID:151136-1749945600-1750031999@shsjames.sk
SUMMARY:Memoriál Emila Trubača Kalamárka\, SPD
DESCRIPTION:
URL:https://shsjames.sk/akcia/memorial-emila-trubaca-kalamarka-spd/
CATEGORIES:Športové lezenie - SP B a C, ostatné preteky
END:VEVENT
BEGIN:VEVENT
DTSTART;VALUE=DATE:20250615
DTEND;VALUE=DATE:20250616
DTSTAMP:20260426T061332
CREATED:20250219T202607Z
LAST-MODIFIED:20251103T072826Z
UID:126516-1749945600-1750031999@shsjames.sk
SUMMARY:EC speed\, Zakopane\, POL
DESCRIPTION:
URL:https://shsjames.sk/akcia/ec-speed-zakopane-pol/
CATEGORIES:Športové lezenie - Európsky pohár
END:VEVENT
BEGIN:VEVENT
DTSTART;VALUE=DATE:20250614
DTEND;VALUE=DATE:20250615
DTSTAMP:20260426T061332
CREATED:20250529T163024Z
LAST-MODIFIED:20260426T033247Z
UID:151135-1749859200-1749945599@shsjames.sk
SUMMARY:Vericala Cup\, Banská Štiavnica
DESCRIPTION:
URL:https://shsjames.sk/akcia/vericala-cup-banska-stiavnica/
CATEGORIES:Športové lezenie - SP B a C, ostatné preteky
END:VEVENT
BEGIN:VEVENT
DTSTART;VALUE=DATE:20250614
DTEND;VALUE=DATE:20250615
DTSTAMP:20260426T061332
CREATED:20250529T162540Z
LAST-MODIFIED:20251103T072826Z
UID:151126-1749859200-1749945599@shsjames.sk
SUMMARY:EYC boulder Sukoro\, HU
DESCRIPTION:
URL:https://shsjames.sk/akcia/eyc-boulder-sukoro-hu/
CATEGORIES:Športové lezenie - Európsky pohár
END:VEVENT
BEGIN:VEVENT
DTSTART;VALUE=DATE:20250614
DTEND;VALUE=DATE:20250615
DTSTAMP:20260426T061332
CREATED:20250219T202607Z
LAST-MODIFIED:20251103T072826Z
UID:126515-1749859200-1749945599@shsjames.sk
SUMMARY:EYC speed\, Zakopane\, POIL
DESCRIPTION:
URL:https://shsjames.sk/akcia/eyc-speed-zakopane-poil/
CATEGORIES:Športové lezenie - Európsky pohár
END:VEVENT
BEGIN:VEVENT
DTSTART;VALUE=DATE:20250613
DTEND;VALUE=DATE:20250616
DTSTAMP:20260426T061332
CREATED:20250219T202159Z
LAST-MODIFIED:20250925T132255Z
UID:126495-1749772800-1750031999@shsjames.sk
SUMMARY:WC boulder\, Bern\, SUI
DESCRIPTION:
URL:https://shsjames.sk/akcia/wc-boulder-bern-sui/
CATEGORIES:Športové lezenie - Svetový pohár
END:VEVENT
BEGIN:VEVENT
DTSTART;VALUE=DATE:20250607
DTEND;VALUE=DATE:20250608
DTSTAMP:20260426T061332
CREATED:20250219T202607Z
LAST-MODIFIED:20251103T072826Z
UID:126514-1749254400-1749340799@shsjames.sk
SUMMARY:EC speed\, Mezzolombardo\, ITA
DESCRIPTION:
URL:https://shsjames.sk/akcia/ec-speed-mezzolombardo-ita/
CATEGORIES:Športové lezenie - Európsky pohár
END:VEVENT
BEGIN:VEVENT
DTSTART;VALUE=DATE:20250606
DTEND;VALUE=DATE:20250609
DTSTAMP:20260426T061332
CREATED:20250219T202159Z
LAST-MODIFIED:20250925T132255Z
UID:126494-1749168000-1749427199@shsjames.sk
SUMMARY:WC boulder\, Praha\, CZE
DESCRIPTION:
URL:https://shsjames.sk/akcia/wc-boulder-praha-cze-2/
CATEGORIES:Športové lezenie - Svetový pohár
END:VEVENT
BEGIN:VEVENT
DTSTART;VALUE=DATE:20250606
DTEND;VALUE=DATE:20250607
DTSTAMP:20260426T061332
CREATED:20250219T202606Z
LAST-MODIFIED:20251103T072825Z
UID:126513-1749168000-1749254399@shsjames.sk
SUMMARY:EYC speed\, Mezzolombardo\, ITA
DESCRIPTION:
URL:https://shsjames.sk/akcia/eyc-speed-mezzolombardo-ita/
CATEGORIES:Športové lezenie - Európsky pohár
END:VEVENT
BEGIN:VEVENT
DTSTART;VALUE=DATE:20250601
DTEND;VALUE=DATE:20250602
DTSTAMP:20260426T061332
CREATED:20250219T202257Z
LAST-MODIFIED:20260426T032415Z
UID:126503-1748736000-1748822399@shsjames.sk
SUMMARY:M SR detí lead\, LA SKALA Žilina
DESCRIPTION:
URL:https://shsjames.sk/akcia/m-sr-d-lead-la-skala-zilina/
CATEGORIES:Športové lezenie - MSR, SP
END:VEVENT
BEGIN:VEVENT
DTSTART;VALUE=DATE:20250531
DTEND;VALUE=DATE:20250601
DTSTAMP:20260426T061332
CREATED:20250219T202256Z
LAST-MODIFIED:20260426T032414Z
UID:126502-1748649600-1748735999@shsjames.sk
SUMMARY:SPDaM lead A\, LA SKALA Žilina
DESCRIPTION:
URL:https://shsjames.sk/akcia/spdam-lead-a-la-skala-zilina/
CATEGORIES:Športové lezenie - MSR, SP
END:VEVENT
BEGIN:VEVENT
DTSTART;VALUE=DATE:20250524
DTEND;VALUE=DATE:20250526
DTSTAMP:20260426T061332
CREATED:20250219T202606Z
LAST-MODIFIED:20251103T072825Z
UID:126512-1748044800-1748217599@shsjames.sk
SUMMARY:EYC boulder\, Molde\, NOR
DESCRIPTION:
URL:https://shsjames.sk/akcia/eyc-boulder-molde-nor/
CATEGORIES:Športové lezenie - Európsky pohár
END:VEVENT
BEGIN:VEVENT
DTSTART;VALUE=DATE:20250524
DTEND;VALUE=DATE:20250525
DTSTAMP:20260426T061332
CREATED:20250219T202256Z
LAST-MODIFIED:20260426T032414Z
UID:126501-1748044800-1748131199@shsjames.sk
SUMMARY:M SR detí boulder\, LA SKALA Žilina
DESCRIPTION:
URL:https://shsjames.sk/akcia/m-sr-d-boulder-la-skala-zilina/
CATEGORIES:Športové lezenie - MSR, SP
END:VEVENT
BEGIN:VEVENT
DTSTART;VALUE=DATE:20250523
DTEND;VALUE=DATE:20250527
DTSTAMP:20260426T061332
CREATED:20250219T202159Z
LAST-MODIFIED:20250925T132255Z
UID:126493-1747958400-1748303999@shsjames.sk
SUMMARY:WC boulder\, Salt Lake City\, USA
DESCRIPTION:
URL:https://shsjames.sk/akcia/wc-boulder-salt-lake-city-usa/
CATEGORIES:Športové lezenie - Svetový pohár
END:VEVENT
BEGIN:VEVENT
DTSTART;VALUE=DATE:20250517
DTEND;VALUE=DATE:20250518
DTSTAMP:20260426T061332
CREATED:20250219T202828Z
LAST-MODIFIED:20260426T033247Z
UID:126530-1747440000-1747526399@shsjames.sk
SUMMARY:SPD boulder B\, Lozilla Liptovský Mikuláš
DESCRIPTION:
URL:https://shsjames.sk/akcia/spd-boulder-b-lozilla-liptovsky-mikulas/
CATEGORIES:Športové lezenie - SP B a C, ostatné preteky
END:VEVENT
BEGIN:VEVENT
DTSTART;VALUE=DATE:20250516
DTEND;VALUE=DATE:20250520
DTSTAMP:20260426T061332
CREATED:20250219T202159Z
LAST-MODIFIED:20250925T132255Z
UID:126492-1747353600-1747699199@shsjames.sk
SUMMARY:WC boulder\, Curitiba\, BRA
DESCRIPTION:
URL:https://shsjames.sk/akcia/wc-boulder-curitiba-bra/
CATEGORIES:Športové lezenie - Svetový pohár
END:VEVENT
BEGIN:VEVENT
DTSTART;VALUE=DATE:20250516
DTEND;VALUE=DATE:20250519
DTSTAMP:20260426T061332
CREATED:20250219T202521Z
LAST-MODIFIED:20260426T032823Z
UID:126506-1747353600-1747612799@shsjames.sk
SUMMARY:MSEJ boulder\, Curno ITA
DESCRIPTION:
URL:https://shsjames.sk/akcia/msej-boulder-curno-ita/
CATEGORIES:Športové lezenie - Európsky pohár mládeže
END:VEVENT
BEGIN:VEVENT
DTSTART;VALUE=DATE:20250509
DTEND;VALUE=DATE:20250512
DTSTAMP:20260426T061332
CREATED:20250219T202605Z
LAST-MODIFIED:20251103T072825Z
UID:126511-1746748800-1747007999@shsjames.sk
SUMMARY:EYC boulder\, Graz\, AUT
DESCRIPTION:
URL:https://shsjames.sk/akcia/eyc-boulder-graz-aut-2/
CATEGORIES:Športové lezenie - Európsky pohár
END:VEVENT
BEGIN:VEVENT
DTSTART;VALUE=DATE:20250508
DTEND;VALUE=DATE:20250509
DTSTAMP:20260426T061332
CREATED:20240101T000537Z
LAST-MODIFIED:20260426T040716Z
UID:22402-1746662400-1746748799@shsjames.sk
SUMMARY:Deň víťazstva nad faŝizmom
DESCRIPTION:Štátny sviatok
URL:https://shsjames.sk/akcia/den-vitazstva-nad-fasizmom/
CATEGORIES:Sviatky na Slovensku
END:VEVENT
BEGIN:VEVENT
DTSTART;VALUE=DATE:20250503
DTEND;VALUE=DATE:20250504
DTSTAMP:20260426T061332
CREATED:20250417T062909Z
LAST-MODIFIED:20260426T033247Z
UID:140664-1746230400-1746316799@shsjames.sk
SUMMARY:Brutal Cup Zvolen\, boulder
DESCRIPTION:
URL:https://shsjames.sk/akcia/brutal-cup-zvolen-boulder/
CATEGORIES:Športové lezenie - SP B a C, ostatné preteky
END:VEVENT
BEGIN:VEVENT
DTSTART;VALUE=DATE:20250503
DTEND;VALUE=DATE:20250504
DTSTAMP:20260426T061332
CREATED:20250219T202604Z
LAST-MODIFIED:20251103T072825Z
UID:126510-1746230400-1746316799@shsjames.sk
SUMMARY:EC boulder\, Brusel\, BEL
DESCRIPTION:
URL:https://shsjames.sk/akcia/ec-boulder-brusel-bel/
CATEGORIES:Športové lezenie - Európsky pohár
END:VEVENT
BEGIN:VEVENT
DTSTART;VALUE=DATE:20250501
DTEND;VALUE=DATE:20250505
DTSTAMP:20260426T061332
CREATED:20250219T202158Z
LAST-MODIFIED:20250925T132255Z
UID:126491-1746057600-1746403199@shsjames.sk
SUMMARY:WC lead a speed\, Indonesia
DESCRIPTION:
URL:https://shsjames.sk/akcia/wc-lead-a-speed-indonesia/
CATEGORIES:Športové lezenie - Svetový pohár
END:VEVENT
BEGIN:VEVENT
DTSTART;VALUE=DATE:20250501
DTEND;VALUE=DATE:20250502
DTSTAMP:20260426T061332
CREATED:20240101T000537Z
LAST-MODIFIED:20260426T040716Z
UID:22401-1746057600-1746143999@shsjames.sk
SUMMARY:Sviatok práce
DESCRIPTION:Štátny sviatok
URL:https://shsjames.sk/akcia/sviatok-prace/
CATEGORIES:Sviatky na Slovensku
END:VEVENT
BEGIN:VEVENT
DTSTART;VALUE=DATE:20250425
DTEND;VALUE=DATE:20250429
DTSTAMP:20260426T061332
CREATED:20250219T202603Z
LAST-MODIFIED:20251103T072825Z
UID:126509-1745539200-1745884799@shsjames.sk
SUMMARY:EYC boulder\, Soure\, POR
DESCRIPTION:
URL:https://shsjames.sk/akcia/eyc-boulder-soure-por-2/
CATEGORIES:Športové lezenie - Európsky pohár
END:VEVENT
BEGIN:VEVENT
DTSTART;VALUE=DATE:20250424
DTEND;VALUE=DATE:20250428
DTSTAMP:20260426T061332
CREATED:20250219T202158Z
LAST-MODIFIED:20250925T132255Z
UID:126490-1745452800-1745798399@shsjames.sk
SUMMARY:WC lead a speed\, Wuijang\, CHI
DESCRIPTION:
URL:https://shsjames.sk/akcia/wc-lead-a-speed-wuijang-chi/
CATEGORIES:Športové lezenie - Svetový pohár
END:VEVENT
BEGIN:VEVENT
DTSTART;VALUE=DATE:20250421
DTEND;VALUE=DATE:20250422
DTSTAMP:20260426T061332
CREATED:20240101T000537Z
LAST-MODIFIED:20260426T040716Z
UID:22400-1745193600-1745279999@shsjames.sk
SUMMARY:Veľkonočný pondelok
DESCRIPTION:Štátny sviatok
URL:https://shsjames.sk/akcia/velkonocny-pondelok/
CATEGORIES:Sviatky na Slovensku
END:VEVENT
BEGIN:VEVENT
DTSTART;VALUE=DATE:20250420
DTEND;VALUE=DATE:20250421
DTSTAMP:20260426T061332
CREATED:20240101T000537Z
LAST-MODIFIED:20260426T040716Z
UID:22399-1745107200-1745193599@shsjames.sk
SUMMARY:Veľkonočná nedeľa
DESCRIPTION:Pamätný deňPamätné dni skryjete v sekcii Nastavenia Kalendára Google > Sviatky na Slovensku
URL:https://shsjames.sk/akcia/velkonocna-nedela/
CATEGORIES:Sviatky na Slovensku
END:VEVENT
BEGIN:VEVENT
DTSTART;VALUE=DATE:20250418
DTEND;VALUE=DATE:20250419
DTSTAMP:20260426T061332
CREATED:20240101T000537Z
LAST-MODIFIED:20260426T040716Z
UID:22398-1744934400-1745020799@shsjames.sk
SUMMARY:Veľký piatok
DESCRIPTION:Štátny sviatok
URL:https://shsjames.sk/akcia/velky-piatok/
CATEGORIES:Sviatky na Slovensku
END:VEVENT
BEGIN:VEVENT
DTSTART;VALUE=DATE:20250417
DTEND;VALUE=DATE:20250421
DTSTAMP:20260426T061332
CREATED:20250219T202158Z
LAST-MODIFIED:20250925T132255Z
UID:126489-1744848000-1745193599@shsjames.sk
SUMMARY:WC boulder\, Kequiao\, CHI
DESCRIPTION:
URL:https://shsjames.sk/akcia/wc-boulder-kequiao-chi/
CATEGORIES:Športové lezenie - Svetový pohár
END:VEVENT
BEGIN:VEVENT
DTSTART;VALUE=DATE:20250413
DTEND;VALUE=DATE:20250414
DTSTAMP:20260426T061332
CREATED:20250312T182843Z
LAST-MODIFIED:20260426T033247Z
UID:131727-1744502400-1744588799@shsjames.sk
SUMMARY:SPD boulder B\, Ovčín\, Turčianske Jaseno
DESCRIPTION:
URL:https://shsjames.sk/akcia/spd-boulder-b-ovcin-turcianske-jaseno-2/
CATEGORIES:Športové lezenie - SP B a C, ostatné preteky
END:VEVENT
END:VCALENDAR