BEGIN:VCALENDAR
VERSION:2.0
PRODID:-//SHS JAMES - ECPv6.15.20//NONSGML v1.0//EN
CALSCALE:GREGORIAN
METHOD:PUBLISH
X-ORIGINAL-URL:https://shsjames.sk
X-WR-CALDESC:Udalosti pre SHS JAMES
REFRESH-INTERVAL;VALUE=DURATION:PT1H
X-Robots-Tag:noindex
X-PUBLISHED-TTL:PT1H
BEGIN:VTIMEZONE
TZID:UTC
BEGIN:STANDARD
TZOFFSETFROM:+0000
TZOFFSETTO:+0000
TZNAME:UTC
DTSTART:20290101T000000
END:STANDARD
END:VTIMEZONE
BEGIN:VEVENT
DTSTART;VALUE=DATE:20300915
DTEND;VALUE=DATE:20300916
DTSTAMP:20260426T044830
CREATED:20250112T190547Z
LAST-MODIFIED:20260426T020829Z
UID:117093-1915660800-1915747199@shsjames.sk
SUMMARY:Sviatok sedembolestnej Panny Márie
DESCRIPTION:Pamätný deňPamätné dni skryjete v sekcii Nastavenia Kalendára Google > Sviatky na Slovensku
URL:https://shsjames.sk/akcia/sviatok-sedembolestnej-panny-marie-2/
CATEGORIES:Sviatky na Slovensku
END:VEVENT
BEGIN:VEVENT
DTSTART;VALUE=DATE:20301101
DTEND;VALUE=DATE:20301102
DTSTAMP:20260426T044830
CREATED:20250112T190547Z
LAST-MODIFIED:20260426T020829Z
UID:117094-1919721600-1919807999@shsjames.sk
SUMMARY:Sviatok vŝetkých svätých
DESCRIPTION:Štátny sviatok
URL:https://shsjames.sk/akcia/sviatok-vsetkych-svatych-2/
CATEGORIES:Sviatky na Slovensku
END:VEVENT
BEGIN:VEVENT
DTSTART;VALUE=DATE:20301117
DTEND;VALUE=DATE:20301118
DTSTAMP:20260426T044830
CREATED:20250112T190547Z
LAST-MODIFIED:20260426T020829Z
UID:117095-1921104000-1921190399@shsjames.sk
SUMMARY:Deň boja za slobodu a demokraciu
DESCRIPTION:Pamätný deňPamätné dni skryjete v sekcii Nastavenia Kalendára Google > Sviatky na Slovensku
URL:https://shsjames.sk/akcia/den-boja-za-slobodu-a-demokraciu-2/
CATEGORIES:Sviatky na Slovensku
END:VEVENT
BEGIN:VEVENT
DTSTART;VALUE=DATE:20301224
DTEND;VALUE=DATE:20301225
DTSTAMP:20260426T044830
CREATED:20250112T190547Z
LAST-MODIFIED:20260426T020829Z
UID:117096-1924300800-1924387199@shsjames.sk
SUMMARY:Ŝtedrý deň
DESCRIPTION:Štátny sviatok
URL:https://shsjames.sk/akcia/stedry-den-2/
CATEGORIES:Sviatky na Slovensku
END:VEVENT
BEGIN:VEVENT
DTSTART;VALUE=DATE:20301225
DTEND;VALUE=DATE:20301226
DTSTAMP:20260426T044830
CREATED:20250112T190548Z
LAST-MODIFIED:20260426T020829Z
UID:117097-1924387200-1924473599@shsjames.sk
SUMMARY:Prvý sviatok vianočný
DESCRIPTION:Štátny sviatok
URL:https://shsjames.sk/akcia/prvy-sviatok-vianocny-2/
CATEGORIES:Sviatky na Slovensku
END:VEVENT
BEGIN:VEVENT
DTSTART;VALUE=DATE:20301226
DTEND;VALUE=DATE:20301227
DTSTAMP:20260426T044830
CREATED:20250112T190548Z
LAST-MODIFIED:20260426T020829Z
UID:117098-1924473600-1924559999@shsjames.sk
SUMMARY:Druhý sviatok vianočný
DESCRIPTION:Štátny sviatok
URL:https://shsjames.sk/akcia/druhy-sviatok-vianocny-2/
CATEGORIES:Sviatky na Slovensku
END:VEVENT
BEGIN:VEVENT
DTSTART;VALUE=DATE:20310101
DTEND;VALUE=DATE:20310102
DTSTAMP:20260426T044830
CREATED:20260102T110631Z
LAST-MODIFIED:20260426T020829Z
UID:202551-1924992000-1925078399@shsjames.sk
SUMMARY:Deň vzniku Slovenskej republiky
DESCRIPTION:Štátny sviatok
URL:https://shsjames.sk/akcia/den-vzniku-slovenskej-republiky-5/
CATEGORIES:Sviatky na Slovensku
END:VEVENT
BEGIN:VEVENT
DTSTART;VALUE=DATE:20310106
DTEND;VALUE=DATE:20310107
DTSTAMP:20260426T044830
CREATED:20260102T110631Z
LAST-MODIFIED:20260426T020830Z
UID:202552-1925424000-1925510399@shsjames.sk
SUMMARY:Zjavenie Pána
DESCRIPTION:Štátny sviatok
URL:https://shsjames.sk/akcia/zjavenie-pana-5/
CATEGORIES:Sviatky na Slovensku
END:VEVENT
BEGIN:VEVENT
DTSTART;VALUE=DATE:20310411
DTEND;VALUE=DATE:20310412
DTSTAMP:20260426T044830
CREATED:20260102T110631Z
LAST-MODIFIED:20260426T020830Z
UID:202553-1933632000-1933718399@shsjames.sk
SUMMARY:Veľký piatok
DESCRIPTION:Štátny sviatok
URL:https://shsjames.sk/akcia/velky-piatok-5/
CATEGORIES:Sviatky na Slovensku
END:VEVENT
BEGIN:VEVENT
DTSTART;VALUE=DATE:20310413
DTEND;VALUE=DATE:20310414
DTSTAMP:20260426T044830
CREATED:20260102T110631Z
LAST-MODIFIED:20260426T020830Z
UID:202554-1933804800-1933891199@shsjames.sk
SUMMARY:Veľkonočná nedeľa
DESCRIPTION:Pamätný deňPamätné dni skryjete v sekcii Nastavenia Kalendára Google > Sviatky na Slovensku
URL:https://shsjames.sk/akcia/velkonocna-nedela-5/
CATEGORIES:Sviatky na Slovensku
END:VEVENT
BEGIN:VEVENT
DTSTART;VALUE=DATE:20310414
DTEND;VALUE=DATE:20310415
DTSTAMP:20260426T044830
CREATED:20260102T110631Z
LAST-MODIFIED:20260426T020830Z
UID:202555-1933891200-1933977599@shsjames.sk
SUMMARY:Veľkonočný pondelok
DESCRIPTION:Štátny sviatok
URL:https://shsjames.sk/akcia/velkonocny-pondelok-5/
CATEGORIES:Sviatky na Slovensku
END:VEVENT
BEGIN:VEVENT
DTSTART;VALUE=DATE:20310501
DTEND;VALUE=DATE:20310502
DTSTAMP:20260426T044830
CREATED:20260102T110631Z
LAST-MODIFIED:20260426T020830Z
UID:202556-1935360000-1935446399@shsjames.sk
SUMMARY:Sviatok práce
DESCRIPTION:Štátny sviatok
URL:https://shsjames.sk/akcia/sviatok-prace-5/
CATEGORIES:Sviatky na Slovensku
END:VEVENT
BEGIN:VEVENT
DTSTART;VALUE=DATE:20310508
DTEND;VALUE=DATE:20310509
DTSTAMP:20260426T044830
CREATED:20260102T110631Z
LAST-MODIFIED:20260426T020830Z
UID:202557-1935964800-1936051199@shsjames.sk
SUMMARY:Deň víťazstva nad faŝizmom
DESCRIPTION:Pamätný deňPamätné dni skryjete v sekcii Nastavenia Kalendára Google > Sviatky na Slovensku
URL:https://shsjames.sk/akcia/den-vitazstva-nad-fasizmom-5/
CATEGORIES:Sviatky na Slovensku
END:VEVENT
BEGIN:VEVENT
DTSTART;VALUE=DATE:20310705
DTEND;VALUE=DATE:20310706
DTSTAMP:20260426T044830
CREATED:20260102T110632Z
LAST-MODIFIED:20260426T020830Z
UID:202558-1940976000-1941062399@shsjames.sk
SUMMARY:Sviatok svätého Cyrila a Metoda
DESCRIPTION:Štátny sviatok
URL:https://shsjames.sk/akcia/sviatok-svateho-cyrila-a-metoda-5/
CATEGORIES:Sviatky na Slovensku
END:VEVENT
BEGIN:VEVENT
DTSTART;VALUE=DATE:20310829
DTEND;VALUE=DATE:20310830
DTSTAMP:20260426T044830
CREATED:20260102T110632Z
LAST-MODIFIED:20260426T020830Z
UID:202559-1945728000-1945814399@shsjames.sk
SUMMARY:Výročie SNP
DESCRIPTION:Štátny sviatok
URL:https://shsjames.sk/akcia/vyrocie-snp-5/
CATEGORIES:Sviatky na Slovensku
END:VEVENT
BEGIN:VEVENT
DTSTART;VALUE=DATE:20310901
DTEND;VALUE=DATE:20310902
DTSTAMP:20260426T044830
CREATED:20260102T110632Z
LAST-MODIFIED:20260426T020830Z
UID:202560-1945987200-1946073599@shsjames.sk
SUMMARY:Deň Ústavy Slovenskej republiky
DESCRIPTION:Pamätný deňPamätné dni skryjete v sekcii Nastavenia Kalendára Google > Sviatky na Slovensku
URL:https://shsjames.sk/akcia/den-ustavy-slovenskej-republiky-5/
CATEGORIES:Sviatky na Slovensku
END:VEVENT
BEGIN:VEVENT
DTSTART;VALUE=DATE:20310915
DTEND;VALUE=DATE:20310916
DTSTAMP:20260426T044830
CREATED:20260102T110632Z
LAST-MODIFIED:20260426T020830Z
UID:202561-1947196800-1947283199@shsjames.sk
SUMMARY:Sviatok sedembolestnej Panny Márie
DESCRIPTION:Pamätný deňPamätné dni skryjete v sekcii Nastavenia Kalendára Google > Sviatky na Slovensku
URL:https://shsjames.sk/akcia/sviatok-sedembolestnej-panny-marie-5/
CATEGORIES:Sviatky na Slovensku
END:VEVENT
BEGIN:VEVENT
DTSTART;VALUE=DATE:20311101
DTEND;VALUE=DATE:20311102
DTSTAMP:20260426T044830
CREATED:20260102T110632Z
LAST-MODIFIED:20260426T020830Z
UID:202562-1951257600-1951343999@shsjames.sk
SUMMARY:Sviatok vŝetkých svätých
DESCRIPTION:Štátny sviatok
URL:https://shsjames.sk/akcia/sviatok-vsetkych-svatych-5/
CATEGORIES:Sviatky na Slovensku
END:VEVENT
BEGIN:VEVENT
DTSTART;VALUE=DATE:20311117
DTEND;VALUE=DATE:20311118
DTSTAMP:20260426T044830
CREATED:20260102T110632Z
LAST-MODIFIED:20260426T020830Z
UID:202563-1952640000-1952726399@shsjames.sk
SUMMARY:Deň boja za slobodu a demokraciu
DESCRIPTION:Pamätný deňPamätné dni skryjete v sekcii Nastavenia Kalendára Google > Sviatky na Slovensku
URL:https://shsjames.sk/akcia/den-boja-za-slobodu-a-demokraciu-5/
CATEGORIES:Sviatky na Slovensku
END:VEVENT
BEGIN:VEVENT
DTSTART;VALUE=DATE:20311224
DTEND;VALUE=DATE:20311225
DTSTAMP:20260426T044830
CREATED:20260102T110632Z
LAST-MODIFIED:20260426T020830Z
UID:202564-1955836800-1955923199@shsjames.sk
SUMMARY:Ŝtedrý deň
DESCRIPTION:Štátny sviatok
URL:https://shsjames.sk/akcia/stedry-den-5/
CATEGORIES:Sviatky na Slovensku
END:VEVENT
BEGIN:VEVENT
DTSTART;VALUE=DATE:20311225
DTEND;VALUE=DATE:20311226
DTSTAMP:20260426T044830
CREATED:20260102T110632Z
LAST-MODIFIED:20260426T020830Z
UID:202565-1955923200-1956009599@shsjames.sk
SUMMARY:Prvý sviatok vianočný
DESCRIPTION:Štátny sviatok
URL:https://shsjames.sk/akcia/prvy-sviatok-vianocny-5/
CATEGORIES:Sviatky na Slovensku
END:VEVENT
BEGIN:VEVENT
DTSTART;VALUE=DATE:20311226
DTEND;VALUE=DATE:20311227
DTSTAMP:20260426T044830
CREATED:20260102T110632Z
LAST-MODIFIED:20260426T020830Z
UID:202566-1956009600-1956095999@shsjames.sk
SUMMARY:Druhý sviatok vianočný
DESCRIPTION:Štátny sviatok
URL:https://shsjames.sk/akcia/druhy-sviatok-vianocny-5/
CATEGORIES:Sviatky na Slovensku
END:VEVENT
END:VCALENDAR